Workbook

Sheet SYNTHESE
A1: Synthèse
B3: Hypothèses principales
B4: Hyp 1
B5: Hyp 2
B6: Hyp 3
B7: Hyp 4
B8: Hyp 5
B9: Hyp 6
B10: Hyp 7
B11: Hyp 8
J13: =CONFIG!D59 -> Compte de résultat prévisionnel | L13: =CR!D$1 -> 2026 | M13: =CR!E$1 -> 2027 | N13: =CR!F$1 -> 2028 | O13: =CR!G$1 -> 2029 | P13: =CR!H$1 -> 2030
J14: =CONFIG!D65 -> Chiffre d'affaires | L14: =CR!D18 -> 0 | M14: =CR!E18 -> 0 | N14: =CR!F18 -> 0 | O14: =CR!G18 -> 0 | P14: =CR!H18 -> 0
J15: =CONFIG!D153 -> Autres Produits | L15: =CR!D26-CR!D18 -> 0 | M15: =CR!E26-CR!E18 -> 0 | N15: =CR!F26-CR!F18 -> 0 | O15: =CR!G26-CR!G18 -> 0 | P15: =CR!H26-CR!H18 -> 0
J16: =CONFIG!D69 -> Achats de marchandises et de matières premières | L16: =CR!D27 -> 0 | M16: =CR!E27 -> 0 | N16: =CR!F27 -> 0 | O16: =CR!G27 -> 0 | P16: =CR!H27 -> 0
J17: =CONFIG!D72 -> Marge Brute | L17: =CR!D38 -> 0 | M17: =CR!E38 -> 0 | N17: =CR!F38 -> 0 | O17: =CR!G38 -> 0 | P17: =CR!H38 -> 0
J18: =CONFIG!D74 -> Autres Achats et Charges Externes | L18: =CR!D45 -> 0 | M18: =CR!E45 -> 0 | N18: =CR!F45 -> 0 | O18: =CR!G45 -> 0 | P18: =CR!H45 -> 0
J19: =CONFIG!D155 -> Salaires, Impôts et taxes | L19: =CR!D61+CR!D103+CR!D104 -> 0 | M19: =CR!E61+CR!E103+CR!E104 -> 0 | N19: =CR!F61+CR!F103+CR!F104 -> 0 | O19: =CR!G61+CR!G103+CR!G104 -> 0 | P19: =CR!H61+CR!H103+CR!H104 -> 0
J20: =CONFIG!D79 -> Nombre d'ETP | L20: =CR!D102 -> 0 | M20: =CR!E102 -> 0 | N20: =CR!F102 -> 0 | O20: =CR!G102 -> 0 | P20: =CR!H102 -> 0
J21: =CONFIG!D82 -> Excédent Brut d'Exploitation | L21: =CR!D105 -> 0 | M21: =CR!E105 -> 0 | N21: =CR!F105 -> 0 | O21: =CR!G105 -> 0 | P21: =CR!H105 -> 0
J22: =CONFIG!D156 -> Produits et charges sous EBE | L22: =L23-L21 -> 0 | M22: =M23-M21 -> 0 | N22: =N23-N21 -> 0 | O22: =O23-O21 -> 0 | P22: =P23-P21 -> 0
J23: =CONFIG!D93 -> Résultat Net | L23: =CR!D127 -> 0 | M23: =CR!E127 -> 0 | N23: =CR!F127 -> 0 | O23: =CR!G127 -> 0 | P23: =CR!H127 -> 0
J25: =CONFIG!D$171 -> Tableau de Flux de Trésorerie | L25: =CR!D$1 -> 2026 | M25: =CR!E$1 -> 2027 | N25: =CR!F$1 -> 2028 | O25: =CR!G$1 -> 2029 | P25: =CR!H$1 -> 2030
J26: =CONFIG!D95 -> Capacité d'autofinancement | L26: =CR!D129 -> 0 | M26: =CR!E129 -> 0 | N26: =CR!F129 -> 0 | O26: =CR!G129 -> 0 | P26: =CR!H129 -> 0
J27: ="- "&CONFIG!D142 -> - Variation de BFR | L27: ='PLAN DE FIN'!C6 -> 0 | M27: ='PLAN DE FIN'!D6 -> 0 | N27: ='PLAN DE FIN'!E6 -> 0 | O27: ='PLAN DE FIN'!F6 -> 0 | P27: ='PLAN DE FIN'!G6 -> 0
J28: =CONFIG!D110 -> Flux de trésorerie d'exploitation | K28: =CR!C39 | L28: =L26-L27 -> 0 | M28: =M26-M27 -> 0 | N28: =N26-N27 -> 0 | O28: =O26-O27 -> 0 | P28: =P26-P27 -> 0
J29: =CONFIG!D157 -> Financement | K29: =CR!C50 | L29: ='PLAN DE FIN'!C10+'PLAN DE FIN'!C11+'PLAN DE FIN'!C12+'PLAN DE FIN'!C13 -> 0 | M29: ='PLAN DE FIN'!D10+'PLAN DE FIN'!D11+'PLAN DE FIN'!D12+'PLAN DE FIN'!D13 -> 0 | N29: ='PLAN DE FIN'!E10+'PLAN DE FIN'!E11+'PLAN DE FIN'!E12+'PLAN DE FIN'!E13 -> 0 | O29: ='PLAN DE FIN'!F10+'PLAN DE FIN'!F11+'PLAN DE FIN'!F12+'PLAN DE FIN'!F13 -> 0 | P29: ='PLAN DE FIN'!G10+'PLAN DE FIN'!G11+'PLAN DE FIN'!G12+'PLAN DE FIN'!G13 -> 0
J30: ="- "&CONFIG!D120 -> - Investissements | K30: =CR!C57 | L30: ='PLAN DE FIN'!C3 -> 0 | M30: ='PLAN DE FIN'!D3 -> 0 | N30: ='PLAN DE FIN'!E3 -> 0 | O30: ='PLAN DE FIN'!F3 -> 0 | P30: ='PLAN DE FIN'!G3 -> 0
J31: ="- "&CONFIG!D158 -> - Remboursements emprunts | L31: ='PLAN DE FIN'!C4+'PLAN DE FIN'!C5 -> 0 | M31: ='PLAN DE FIN'!D4+'PLAN DE FIN'!D5 -> 0 | N31: ='PLAN DE FIN'!E4+'PLAN DE FIN'!E5 -> 0 | O31: ='PLAN DE FIN'!F4+'PLAN DE FIN'!F5 -> 0 | P31: ='PLAN DE FIN'!G4+'PLAN DE FIN'!G5 -> 0
J32: =CONFIG!D125 -> Flux de trésorerie hors exploitation | K32: =CR!C114 | L32: =L29-L31-L30 -> 0 | M32: =M29-M31-M30 -> 0 | N32: =N29-N31-N30 -> 0 | O32: =O29-O31-O30 -> 0 | P32: =P29-P31-P30 -> 0
J33: =CONFIG!D126 -> Flux de trésorerie global avec financement | K33: =CR!C117 | L33: =L28+L32 -> 0 | M33: =M28+M32 -> 0 | N33: =N28+N32 -> 0 | O33: =O28+O32 -> 0 | P33: =P28+P32 -> 0
J34: =CONFIG!D128 -> Solde de trésorerie fin de période | K34: =TRESO!D70 -> 0 | L34: =K34+L33 -> 0 | M34: =L34+M33 -> 0 | N34: =M34+N33 -> 0 | O34: =N34+O33 -> 0 | P34: =O34+P33 -> 0
K35: =CR!C139 | L35: =CR!D139 | M35: =CR!E139 | N35: =CR!F139 | O35: =CR!G139 | P35: =CR!H139
J37: =CONFIG!D$172 -> Répartition du chiffre d'affaires | L37: =CR!D$1 -> 2026 | M37: =CR!E$1 -> 2027 | N37: =CR!F$1 -> 2028 | O37: =CR!G$1 -> 2029 | P37: =CR!H$1 -> 2030
J38: =CR!A3 -> Type de client 1 | L38: =CR!D3 -> 0 | M38: =CR!E3 -> 0 | N38: =CR!F3 -> 0 | O38: =CR!G3 -> 0 | P38: =CR!H3 -> 0
J39: =CR!A6 -> Type de client 2 | L39: =CR!D6 -> 0 | M39: =CR!E6 -> 0 | N39: =CR!F6 -> 0 | O39: =CR!G6 -> 0 | P39: =CR!H6 -> 0
J40: =CR!A9 -> Activité 3 | L40: =CR!D9 -> 0 | M40: =CR!E9 -> 0 | N40: =CR!F9 -> 0 | O40: =CR!G9 -> 0 | P40: =CR!H9 -> 0
J41: =CR!A12 -> Activité 4 | L41: =CR!D12 -> 0 | M41: =CR!E12 -> 0 | N41: =CR!F12 -> 0 | O41: =CR!G12 -> 0 | P41: =CR!H12 -> 0
J42: =CR!A15 -> Activité 5 | L42: =CR!D15 -> 0 | M42: =CR!E15 -> 0 | N42: =CR!F15 -> 0 | O42: =CR!G15 -> 0 | P42: =CR!H15 -> 0
J43: =CR!A18 -> Chiffre d'affaires | L43: =CR!D18 -> 0 | M43: =CR!E18 -> 0 | N43: =CR!F18 -> 0 | O43: =CR!G18 -> 0 | P43: =CR!H18 -> 0
J49: =CONFIG!D$173 -> Répartition du chiffre d'affaires en % | L49: =L37 -> 2026 | M49: =M37 -> 2027 | N49: =N37 -> 2028 | O49: =O37 -> 2029 | P49: =P37 -> 2030
...

Sheet CR
A1: =CONFIG!D59 -> Compte de résultat prévisionnel | C1: =D1-1 -> 2025 | D1: =AB1 -> 2026 | E1: =D1+1 -> 2027 | F1: =E1+1 -> 2028 | G1: =F1+1 -> 2029 | H1: =G1+1 -> 2030 | J1: =CONFIG!D60 -> TCAM | K1: =CONFIG!$D$61 -> Croiss. | L1: =CONFIG!$D$61 -> Croiss. | M1: =CONFIG!$D$61 -> Croiss. | N1: =CONFIG!$D$61 -> Croiss. | O1: =CONFIG!$D$61 -> Croiss. | Q1: =YEAR(Q2) -> 2026 | R1: =YEAR(R2) -> 2026 | S1: =YEAR(S2) -> 2026 | T1: =YEAR(T2) -> 2026 | U1: =YEAR(U2) -> 2026 | V1: =YEAR(V2) -> 2026 | W1: =YEAR(W2) -> 2026 | X1: =YEAR(X2) -> 2026 | ... BX1: =YEAR(BX2) -> 2030
A2: COMPLETER UNIQUEMENT LES CASES JAUNES | C2: =EDATE(D2,-12) -> 46022 | D2: =EDATE(date(AB1,MONTH(AB2),1),1)-1 -> 46387 | E2: =EDATE(D2,12) -> 46752 | F2: =EDATE(E2,12) -> 47118 | G2: =EDATE(F2,12) -> 47483 | H2: =EDATE(G2,12) -> 47848 | J2: =RIGHT(D1,2)&"-"&RIGHT(H1,2) -> 26-30 | K2: =RIGHT(C1,2)&"-"&RIGHT(D1,2) -> 25-26 | L2: =RIGHT(D1,2)&"-"&RIGHT(E1,2) -> 26-27 | M2: =RIGHT(E1,2)&"-"&RIGHT(F1,2) -> 27-28 | N2: =RIGHT(F1,2)&"-"&RIGHT(G1,2) -> 28-29 | O2: =RIGHT(G1,2)&"-"&RIGHT(H1,2) -> 29-30 | Q2: =DATE(CONFIG!C14,MOD(CONFIG!C13+1,12),1) -> 46023 | R2: =EDATE(Q2,1) -> 46054 | S2: =EDATE(R2,1) -> 46082 | T2: =EDATE(S2,1) -> 46113 | U2: =EDATE(T2,1) -> 46143 | V2: =EDATE(U2,1) -> 46174 | W2: =EDATE(V2,1) -> 46204 | X2: =EDATE(W2,1) -> 46235 | Y2: =EDATE(X2,1) -> 46266 | ... BX2: =EDATE(BW2,1) -> 47818
A3: Type de client 1 | D3: =SUM(Q3:AB3) -> 0 | E3: =SUM(AC3:AN3) -> 0 | F3: =SUM(AO3:AZ3) -> 0 | G3: =SUM(BA3:BL3) -> 0 | H3: =SUM(BM3:BX3) -> 0 | J3: =IFERROR((H3/D3)^(1/4)-1,"-") -> - | K3: =IFERROR(D3/C3-1,"-") -> - | L3: =IFERROR(E3/D3-1,"-") -> - | M3: =IFERROR(F3/E3-1,"-") -> - | N3: =IFERROR(G3/F3-1,"-") -> - | O3: =IFERROR(H3/G3-1,"-") -> - | Q3: =Q4*Q5 -> 0 | R3: =R4*R5 -> 0 | S3: =S4*S5 -> 0 | T3: =T4*T5 -> 0 | U3: =U4*U5 -> 0 | V3: =V4*V5 -> 0 | W3: =W4*W5 -> 0 | X3: =X4*X5 -> 0 | ... BX3: =BX4*BX5 -> 0
A4: Nombre de clients | D4: =SUM(Q4:AB4) -> 0 | E4: =SUM(AC4:AN4) -> 0 | F4: =SUM(AO4:AZ4) -> 0 | G4: =SUM(BA4:BL4) -> 0 | H4: =SUM(BM4:BX4) -> 0 | J4: =IFERROR((H4/D4)^(1/4)-1,"-") -> - | K4: =IFERROR(D4/C4-1,"-") -> - | L4: =IFERROR(E4/D4-1,"-") -> - | M4: =IFERROR(F4/E4-1,"-") -> - | N4: =IFERROR(G4/F4-1,"-") -> - | O4: =IFERROR(H4/G4-1,"-") -> -
A5: =CONFIG!$D$64 -> Prix unitaire | D5: =IFERROR(SUMPRODUCT(Q4:AB4,Q5:AB5)/D4,0) -> 0 | E5: =IFERROR(SUMPRODUCT(AC4:AN4,AC5:AN5)/E4,0) -> 0 | F5: =IFERROR(SUMPRODUCT(AO4:AZ4,AO5:AZ5)/F4,0) -> 0 | G5: =IFERROR(SUMPRODUCT(BA4:BL4,BA5:BL5)/G4,0) -> 0 | H5: =IFERROR(SUMPRODUCT(BM4:BX4,BM5:BX5)/H4,0) -> 0 | J5: =IFERROR((H5/D5)^(1/4)-1,"-") -> - | K5: =IFERROR(D5/C5-1,"-") -> - | L5: =IFERROR(E5/D5-1,"-") -> - | M5: =IFERROR(F5/E5-1,"-") -> - | N5: =IFERROR(G5/F5-1,"-") -> - | O5: =IFERROR(H5/G5-1,"-") -> -
A6: Type de client 2 | D6: =SUM(Q6:AB6) -> 0 | E6: =SUM(AC6:AN6) -> 0 | F6: =SUM(AO6:AZ6) -> 0 | G6: =SUM(BA6:BL6) -> 0 | H6: =SUM(BM6:BX6) -> 0 | J6: =IFERROR((H6/D6)^(1/4)-1,"-") -> - | K6: =IFERROR(D6/C6-1,"-") -> - | L6: =IFERROR(E6/D6-1,"-") -> - | M6: =IFERROR(F6/E6-1,"-") -> - | N6: =IFERROR(G6/F6-1,"-") -> - | O6: =IFERROR(H6/G6-1,"-") -> - | Q6: =Q7*Q8 -> 0 | R6: =R7*R8 -> 0 | S6: =S7*S8 -> 0 | T6: =T7*T8 -> 0 | U6: =U7*U8 -> 0 | V6: =V7*V8 -> 0 | W6: =W7*W8 -> 0 | X6: =X7*X8 -> 0 | ... BX6: =BX7*BX8 -> 0
A7: =CONFIG!$D$63 -> Volume | D7: =SUM(Q7:AB7) -> 0 | E7: =SUM(AC7:AN7) -> 0 | F7: =SUM(AO7:AZ7) -> 0 | G7: =SUM(BA7:BL7) -> 0 | H7: =SUM(BM7:BX7) -> 0 | J7: =IFERROR((H7/D7)^(1/4)-1,"-") -> - | K7: =IFERROR(D7/C7-1,"-") -> - | L7: =IFERROR(E7/D7-1,"-") -> - | M7: =IFERROR(F7/E7-1,"-") -> - | N7: =IFERROR(G7/F7-1,"-") -> - | O7: =IFERROR(H7/G7-1,"-") -> - | Q7: 0 | R7: 0 | S7: 0 | T7: 0 | U7: 0 | V7: 0 | W7: 0 | X7: 0 | Y7: 0 | Z7: 0 | AA7: 0 | AB7: 0 | AC7: 0 | AD7: 0 | AE7: 0 | AF7: 0 | AG7: 0 | AH7: 0 | AI7: 0 | AJ7: 0 | AK7: 0 | AL7: 0 | AM7: 0 | AN7: 0 | AO7: 0 | AP7: 0 | AQ7: 0 | AR7: 0 | AS7: 0 | AT7: 0 | AU7: 0 | AV7: 0 | AW7: 0 | AX7: 0 | AY7: 0 | AZ7: 0 | BA7: 0 | BB7: 0 | BC7: 0 | BD7: 0 | BE7: 0 | BF7: 0 | BG7: 0 | BH7: 0 | BI7: 0 | BJ7: 0 | BK7: 0 | BL7: 0 | BM7: 0 | BN7: 0 | BO7: 0 | BP7: 0 | BQ7: 0 | BR7: 0 | BS7: 0 | BT7: 0 | BU7: 0 | BV7: 0 | BW7: 0 | BX7: 0
A8: =CONFIG!$D$64 -> Prix unitaire | D8: =IFERROR(SUMPRODUCT(Q7:AB7,Q8:AB8)/D7,0) -> 0 | E8: =IFERROR(SUMPRODUCT(AC7:AN7,AC8:AN8)/E7,0) -> 0 | F8: =IFERROR(SUMPRODUCT(AO7:AZ7,AO8:AZ8)/F7,0) -> 0 | G8: =IFERROR(SUMPRODUCT(BA7:BL7,BA8:BL8)/G7,0) -> 0 | H8: =IFERROR(SUMPRODUCT(BM7:BX7,BM8:BX8)/H7,0) -> 0 | J8: =IFERROR((H8/D8)^(1/4)-1,"-") -> - | K8: =IFERROR(D8/C8-1,"-") -> - | L8: =IFERROR(E8/D8-1,"-") -> - | M8: =IFERROR(F8/E8-1,"-") -> - | N8: =IFERROR(G8/F8-1,"-") -> - | O8: =IFERROR(H8/G8-1,"-") -> - | Q8: 0 | R8: 0 | S8: 0 | T8: 0 | U8: 0 | V8: 0 | W8: 0 | X8: 0 | Y8: 0 | Z8: 0 | AA8: 0 | AB8: 0 | AC8: 0 | AD8: 0 | AE8: 0 | AF8: 0 | AG8: 0 | AH8: 0 | AI8: 0 | AJ8: 0 | AK8: 0 | AL8: 0 | AM8: 0 | AN8: 0 | AO8: 0 | AP8: 0 | AQ8: 0 | AR8: 0 | AS8: 0 | AT8: 0 | AU8: 0 | AV8: 0 | AW8: 0 | AX8: 0 | AY8: 0 | AZ8: 0 | BA8: 0 | BB8: 0 | BC8: 0 | BD8: 0 | BE8: 0 | BF8: 0 | BG8: 0 | BH8: 0 | BI8: 0 | BJ8: 0 | BK8: 0 | BL8: 0 | BM8: 0 | BN8: 0 | BO8: 0 | BP8: 0 | BQ8: 0 | BR8: 0 | BS8: 0 | BT8: 0 | BU8: 0 | BV8: 0 | BW8: 0 | BX8: 0
A9: Activité 3 | D9: =SUM(Q9:AB9) -> 0 | E9: =SUM(AC9:AN9) -> 0 | F9: =SUM(AO9:AZ9) -> 0 | G9: =SUM(BA9:BL9) -> 0 | H9: =SUM(BM9:BX9) -> 0 | J9: =IFERROR((H9/D9)^(1/4)-1,"-") -> - | K9: =IFERROR(D9/C9-1,"-") -> - | L9: =IFERROR(E9/D9-1,"-") -> - | M9: =IFERROR(F9/E9-1,"-") -> - | N9: =IFERROR(G9/F9-1,"-") -> - | O9: =IFERROR(H9/G9-1,"-") -> - | Q9: =Q10*Q11 -> 0 | R9: =R10*R11 -> 0 | S9: =S10*S11 -> 0 | T9: =T10*T11 -> 0 | U9: =U10*U11 -> 0 | V9: =V10*V11 -> 0 | W9: =W10*W11 -> 0 | X9: =X10*X11 -> 0 | ... BX9: =BX10*BX11 -> 0
A10: =CONFIG!$D$63 -> Volume | D10: =SUM(Q10:AB10) -> 0 | E10: =SUM(AC10:AN10) -> 0 | F10: =SUM(AO10:AZ10) -> 0 | G10: =SUM(BA10:BL10) -> 0 | H10: =SUM(BM10:BX10) -> 0 | J10: =IFERROR((H10/D10)^(1/4)-1,"-") -> - | K10: =IFERROR(D10/C10-1,"-") -> - | L10: =IFERROR(E10/D10-1,"-") -> - | M10: =IFERROR(F10/E10-1,"-") -> - | N10: =IFERROR(G10/F10-1,"-") -> - | O10: =IFERROR(H10/G10-1,"-") -> - | Q10: 0 | R10: 0 | S10: 0 | T10: 0 | U10: 0 | V10: 0 | W10: 0 | X10: 0 | Y10: 0 | Z10: 0 | AA10: 0 | AB10: 0 | AC10: 0 | AD10: 0 | AE10: 0 | AF10: 0 | AG10: 0 | AH10: 0 | AI10: 0 | AJ10: 0 | AK10: 0 | AL10: 0 | AM10: 0 | AN10: 0 | AO10: 0 | AP10: 0 | AQ10: 0 | AR10: 0 | AS10: 0 | AT10: 0 | AU10: 0 | AV10: 0 | AW10: 0 | AX10: 0 | AY10: 0 | AZ10: 0 | BA10: 0 | BB10: 0 | BC10: 0 | BD10: 0 | BE10: 0 | BF10: 0 | BG10: 0 | BH10: 0 | BI10: 0 | BJ10: 0 | BK10: 0 | BL10: 0 | BM10: 0 | BN10: 0 | BO10: 0 | BP10: 0 | BQ10: 0 | BR10: 0 | BS10: 0 | BT10: 0 | BU10: 0 | BV10: 0 | BW10: 0 | BX10: 0
A11: =CONFIG!$D$64 -> Prix unitaire | D11: =IFERROR(SUMPRODUCT(Q10:AB10,Q11:AB11)/D10,0) -> 0 | E11: =IFERROR(SUMPRODUCT(AC10:AN10,AC11:AN11)/E10,0) -> 0 | F11: =IFERROR(SUMPRODUCT(AO10:AZ10,AO11:AZ11)/F10,0) -> 0 | G11: =IFERROR(SUMPRODUCT(BA10:BL10,BA11:BL11)/G10,0) -> 0 | H11: =IFERROR(SUMPRODUCT(BM10:BX10,BM11:BX11)/H10,0) -> 0 | J11: =IFERROR((H11/D11)^(1/4)-1,"-") -> - | K11: =IFERROR(D11/C11-1,"-") -> - | L11: =IFERROR(E11/D11-1,"-") -> - | M11: =IFERROR(F11/E11-1,"-") -> - | N11: =IFERROR(G11/F11-1,"-") -> - | O11: =IFERROR(H11/G11-1,"-") -> - | Q11: 0 | R11: 0 | S11: 0 | T11: 0 | U11: 0 | V11: 0 | W11: 0 | X11: 0 | Y11: 0 | Z11: 0 | AA11: 0 | AB11: 0 | AC11: 0 | AD11: 0 | AE11: 0 | AF11: 0 | AG11: 0 | AH11: 0 | AI11: 0 | AJ11: 0 | AK11: 0 | AL11: 0 | AM11: 0 | AN11: 0 | AO11: 0 | AP11: 0 | AQ11: 0 | AR11: 0 | AS11: 0 | AT11: 0 | AU11: 0 | AV11: 0 | AW11: 0 | AX11: 0 | AY11: 0 | AZ11: 0 | BA11: 0 | BB11: 0 | BC11: 0 | BD11: 0 | BE11: 0 | BF11: 0 | BG11: 0 | BH11: 0 | BI11: 0 | BJ11: 0 | BK11: 0 | BL11: 0 | BM11: 0 | BN11: 0 | BO11: 0 | BP11: 0 | BQ11: 0 | BR11: 0 | BS11: 0 | BT11: 0 | BU11: 0 | BV11: 0 | BW11: 0 | BX11: 0
A12: Activité 4 | D12: =SUM(Q12:AB12) -> 0 | E12: =SUM(AC12:AN12) -> 0 | F12: =SUM(AO12:AZ12) -> 0 | G12: =SUM(BA12:BL12) -> 0 | H12: =SUM(BM12:BX12) -> 0 | J12: =IFERROR((H12/D12)^(1/4)-1,"-") -> - | K12: =IFERROR(D12/C12-1,"-") -> - | L12: =IFERROR(E12/D12-1,"-") -> - | M12: =IFERROR(F12/E12-1,"-") -> - | N12: =IFERROR(G12/F12-1,"-") -> - | O12: =IFERROR(H12/G12-1,"-") -> - | Q12: =Q13*Q14 -> 0 | R12: =R13*R14 -> 0 | S12: =S13*S14 -> 0 | T12: =T13*T14 -> 0 | U12: =U13*U14 -> 0 | V12: =V13*V14 -> 0 | W12: =W13*W14 -> 0 | X12: =X13*X14 -> 0 | ... BX12: =BX13*BX14 -> 0
A13: =CONFIG!$D$63 -> Volume | D13: =SUM(Q13:AB13) -> 0 | E13: =SUM(AC13:AN13) -> 0 | F13: =SUM(AO13:AZ13) -> 0 | G13: =SUM(BA13:BL13) -> 0 | H13: =SUM(BM13:BX13) -> 0 | J13: =IFERROR((H13/D13)^(1/4)-1,"-") -> - | K13: =IFERROR(D13/C13-1,"-") -> - | L13: =IFERROR(E13/D13-1,"-") -> - | M13: =IFERROR(F13/E13-1,"-") -> - | N13: =IFERROR(G13/F13-1,"-") -> - | O13: =IFERROR(H13/G13-1,"-") -> -
A14: =CONFIG!$D$64 -> Prix unitaire | D14: =IFERROR(SUMPRODUCT(Q13:AB13,Q14:AB14)/D13,0) -> 0 | E14: =IFERROR(SUMPRODUCT(AC13:AN13,AC14:AN14)/E13,0) -> 0 | F14: =IFERROR(SUMPRODUCT(AO13:AZ13,AO14:AZ14)/F13,0) -> 0 | G14: =IFERROR(SUMPRODUCT(BA13:BL13,BA14:BL14)/G13,0) -> 0 | H14: =IFERROR(SUMPRODUCT(BM13:BX13,BM14:BX14)/H13,0) -> 0 | J14: =IFERROR((H14/D14)^(1/4)-1,"-") -> - | K14: =IFERROR(D14/C14-1,"-") -> - | L14: =IFERROR(E14/D14-1,"-") -> - | M14: =IFERROR(F14/E14-1,"-") -> - | N14: =IFERROR(G14/F14-1,"-") -> - | O14: =IFERROR(H14/G14-1,"-") -> -
A15: Activité 5 | D15: =SUM(Q15:AB15) -> 0 | E15: =SUM(AC15:AN15) -> 0 | F15: =SUM(AO15:AZ15) -> 0 | G15: =SUM(BA15:BL15) -> 0 | H15: =SUM(BM15:BX15) -> 0 | J15: =IFERROR((H15/D15)^(1/4)-1,"-") -> - | K15: =IFERROR(D15/C15-1,"-") -> - | L15: =IFERROR(E15/D15-1,"-") -> - | M15: =IFERROR(F15/E15-1,"-") -> - | N15: =IFERROR(G15/F15-1,"-") -> - | O15: =IFERROR(H15/G15-1,"-") -> - | Q15: =Q16*Q17 -> 0 | R15: =R16*R17 -> 0 | S15: =S16*S17 -> 0 | T15: =T16*T17 -> 0 | U15: =U16*U17 -> 0 | V15: =V16*V17 -> 0 | W15: =W16*W17 -> 0 | X15: =X16*X17 -> 0 | ... BX15: =BX16*BX17 -> 0
A16: =CONFIG!$D$63 -> Volume | D16: =SUM(Q16:AB16) -> 0 | E16: =SUM(AC16:AN16) -> 0 | F16: =SUM(AO16:AZ16) -> 0 | G16: =SUM(BA16:BL16) -> 0 | H16: =SUM(BM16:BX16) -> 0 | J16: =IFERROR((H16/D16)^(1/4)-1,"-") -> - | K16: =IFERROR(D16/C16-1,"-") -> - | L16: =IFERROR(E16/D16-1,"-") -> - | M16: =IFERROR(F16/E16-1,"-") -> - | N16: =IFERROR(G16/F16-1,"-") -> - | O16: =IFERROR(H16/G16-1,"-") -> -
A17: =CONFIG!$D$64 -> Prix unitaire | D17: =IFERROR(SUMPRODUCT(Q16:AB16,Q17:AB17)/D16,0) -> 0 | E17: =IFERROR(SUMPRODUCT(AC16:AN16,AC17:AN17)/E16,0) -> 0 | F17: =IFERROR(SUMPRODUCT(AO16:AZ16,AO17:AZ17)/F16,0) -> 0 | G17: =IFERROR(SUMPRODUCT(BA16:BL16,BA17:BL17)/G16,0) -> 0 | H17: =IFERROR(SUMPRODUCT(BM16:BX16,BM17:BX17)/H16,0) -> 0 | J17: =IFERROR((H17/D17)^(1/4)-1,"-") -> - | K17: =IFERROR(D17/C17-1,"-") -> - | L17: =IFERROR(E17/D17-1,"-") -> - | M17: =IFERROR(F17/E17-1,"-") -> - | N17: =IFERROR(G17/F17-1,"-") -> - | O17: =IFERROR(H17/G17-1,"-") -> -
A18: =CONFIG!$D$65 -> Chiffre d'affaires | C18: =SUM(C3,C6,C9,C12,C15) -> 0 | D18: =SUM(D3,D6,D9,D12,D15) -> 0 | E18: =SUM(E3,E6,E9,E12,E15) -> 0 | F18: =SUM(F3,F6,F9,F12,F15) -> 0 | G18: =SUM(G3,G6,G9,G12,G15) -> 0 | H18: =SUM(H3,H6,H9,H12,H15) -> 0 | J18: =IFERROR((H18/D18)^(1/4)-1,"-") -> - | K18: =IFERROR(D18/C18-1,"-") -> - | L18: =IFERROR(E18/D18-1,"-") -> - | M18: =IFERROR(F18/E18-1,"-") -> - | N18: =IFERROR(G18/F18-1,"-") -> - | O18: =IFERROR(H18/G18-1,"-") -> - | Q18: =SUM(Q3,Q6,Q9,Q12,Q15) -> 0 | R18: =SUM(R3,R6,R9,R12,R15) -> 0 | S18: =SUM(S3,S6,S9,S12,S15) -> 0 | T18: =SUM(T3,T6,T9,T12,T15) -> 0 | U18: =SUM(U3,U6,U9,U12,U15) -> 0 | V18: =SUM(V3,V6,V9,V12,V15) -> 0 | W18: =SUM(W3,W6,W9,W12,W15) -> 0 | X18: =SUM(X3,X6,X9,X12,X15) -> 0 | ... BX18: =SUM(BX3,BX6,BX9,BX12,BX15) -> 0
A19: =CONFIG!$D$66 -> Subventions d'exploitation | D19: =SUM(Q19:AB19) -> 0 | E19: =SUM(AC19:AN19) -> 0 | F19: =SUM(AO19:AZ19) -> 0 | G19: =SUM(BA19:BL19) -> 0 | H19: =SUM(BM19:BX19) -> 0 | J19: =IFERROR((H19/D19)^(1/4)-1,"-") -> - | K19: =IFERROR(D19/C19-1,"-") -> - | L19: =IFERROR(E19/D19-1,"-") -> - | M19: =IFERROR(F19/E19-1,"-") -> - | N19: =IFERROR(G19/F19-1,"-") -> - | O19: =IFERROR(H19/G19-1,"-") -> - | Q19: =sum(Q20:Q24) -> 0 | R19: =sum(R20:R24) -> 0 | S19: =sum(S20:S24) -> 0 | T19: =sum(T20:T24) -> 0 | U19: =sum(U20:U24) -> 0 | V19: =sum(V20:V24) -> 0 | W19: =sum(W20:W24) -> 0 | X19: =sum(X20:X24) -> 0 | ... BX19: =sum(BX20:BX24) -> 0
A20: Subvention 1 | D20: =SUM(Q20:AB20) -> 0 | E20: =SUM(AC20:AN20) -> 0 | F20: =SUM(AO20:AZ20) -> 0 | G20: =SUM(BA20:BL20) -> 0 | H20: =SUM(BM20:BX20) -> 0 | J20: =IFERROR((H20/D20)^(1/4)-1,"-") -> -
A21: Subvention 2 | D21: =SUM(Q21:AB21) -> 0 | E21: =SUM(AC21:AN21) -> 0 | F21: =SUM(AO21:AZ21) -> 0 | G21: =SUM(BA21:BL21) -> 0 | H21: =SUM(BM21:BX21) -> 0 | J21: =IFERROR((H21/D21)^(1/4)-1,"-") -> -
A22: Subvention 3 | D22: =SUM(Q22:AB22) -> 0 | E22: =SUM(AC22:AN22) -> 0 | F22: =SUM(AO22:AZ22) -> 0 | G22: =SUM(BA22:BL22) -> 0 | H22: =SUM(BM22:BX22) -> 0 | J22: =IFERROR((H22/D22)^(1/4)-1,"-") -> -
A23: Subvention 4 | D23: =SUM(Q23:AB23) -> 0 | E23: =SUM(AC23:AN23) -> 0 | F23: =SUM(AO23:AZ23) -> 0 | G23: =SUM(BA23:BL23) -> 0 | H23: =SUM(BM23:BX23) -> 0 | J23: =IFERROR((H23/D23)^(1/4)-1,"-") -> -
A24: Subvention 5 | D24: =SUM(Q24:AB24) -> 0 | E24: =SUM(AC24:AN24) -> 0 | F24: =SUM(AO24:AZ24) -> 0 | G24: =SUM(BA24:BL24) -> 0 | H24: =SUM(BM24:BX24) -> 0 | J24: =IFERROR((H24/D24)^(1/4)-1,"-") -> -
A25: =CONFIG!D67 -> Production Immobilisée | D25: =SUM(Q25:AB25) -> 0 | E25: =SUM(AC25:AN25) -> 0 | F25: =SUM(AO25:AZ25) -> 0 | G25: =SUM(BA25:BL25) -> 0 | H25: =SUM(BM25:BX25) -> 0 | J25: =IFERROR((H25/D25)^(1/4)-1,"-") -> - | K25: =IFERROR(D25/C25-1,"-") -> - | L25: =IFERROR(E25/D25-1,"-") -> - | M25: =IFERROR(F25/E25-1,"-") -> - | N25: =IFERROR(G25/F25-1,"-") -> - | O25: =IFERROR(H25/G25-1,"-") -> - | Q25: 0 | R25: 0 | S25: 0 | T25: 0 | U25: 0 | V25: 0 | W25: 0 | X25: 0 | Y25: 0 | Z25: 0 | AA25: 0 | AB25: 0 | AC25: 0 | AD25: 0 | AE25: 0 | AF25: 0 | AG25: 0 | AH25: 0 | AI25: 0 | AJ25: 0 | AK25: 0 | AL25: 0 | AM25: 0 | AN25: 0 | AO25: 0 | AP25: 0 | AQ25: 0 | AR25: 0 | AS25: 0 | AT25: 0 | AU25: 0 | AV25: 0 | AW25: 0 | AX25: 0 | AY25: 0 | AZ25: 0 | BA25: 0 | BB25: 0 | BC25: 0 | BD25: 0 | BE25: 0 | BF25: 0 | BG25: 0 | BH25: 0 | BI25: 0 | BJ25: 0 | BK25: 0 | BL25: 0 | BM25: 0 | BN25: 0 | BO25: 0 | BP25: 0 | BQ25: 0 | BR25: 0 | BS25: 0 | BT25: 0 | BU25: 0 | BV25: 0 | BW25: 0 | BX25: 0
A26: =CONFIG!D68 -> Produits d'exploitation | C26: =C18+C19+C25 -> 0 | D26: =D18+D19+D25 -> 0 | E26: =E18+E19+E25 -> 0 | F26: =F18+F19+F25 -> 0 | G26: =G18+G19+G25 -> 0 | H26: =H18+H19+H25 -> 0 | J26: =IFERROR((H26/D26)^(1/4)-1,"-") -> - | K26: =IFERROR(D26/C26-1,"-") -> - | L26: =IFERROR(E26/D26-1,"-") -> - | M26: =IFERROR(F26/E26-1,"-") -> - | N26: =IFERROR(G26/F26-1,"-") -> - | O26: =IFERROR(H26/G26-1,"-") -> - | Q26: =Q18+Q19+Q25 -> 0 | R26: =R18+R19+R25 -> 0 | S26: =S18+S19+S25 -> 0 | T26: =T18+T19+T25 -> 0 | U26: =U18+U19+U25 -> 0 | V26: =V18+V19+V25 -> 0 | W26: =W18+W19+W25 -> 0 | X26: =X18+X19+X25 -> 0 | ... BX26: =BX18+BX19+BX25 -> 0
A27: =CONFIG!D69 -> Achats de marchandises et de matières premières | D27: =SUM(Q27:AB27) -> 0 | E27: =SUM(AC27:AN27) -> 0 | F27: =SUM(AO27:AZ27) -> 0 | G27: =SUM(BA27:BL27) -> 0 | H27: =SUM(BM27:BX27) -> 0 | J27: =IFERROR((H27/D27)^(1/4)-1,"-") -> - | K27: =IFERROR(D27/C27-1,"-") -> - | L27: =IFERROR(E27/D27-1,"-") -> - | M27: =IFERROR(F27/E27-1,"-") -> - | N27: =IFERROR(G27/F27-1,"-") -> - | O27: =IFERROR(H27/G27-1,"-") -> - | Q27: =SUM(Q28,Q30,Q32,Q34,Q36) -> 0 | R27: =SUM(R28,R30,R32,R34,R36) -> 0 | S27: =SUM(S28,S30,S32,S34,S36) -> 0 | T27: =SUM(T28,T30,T32,T34,T36) -> 0 | U27: =SUM(U28,U30,U32,U34,U36) -> 0 | V27: =SUM(V28,V30,V32,V34,V36) -> 0 | W27: =SUM(W28,W30,W32,W34,W36) -> 0 | X27: =SUM(X28,X30,X32,X34,X36) -> 0 | ... BX27: =SUM(BX28,BX30,BX32,BX34,BX36) -> 0
A28: =CONFIG!$D$70&" "&A3 -> AMMP Type de client 1 | D28: =SUM(Q28:AB28) -> 0 | E28: =SUM(AC28:AN28) -> 0 | F28: =SUM(AO28:AZ28) -> 0 | G28: =SUM(BA28:BL28) -> 0 | H28: =SUM(BM28:BX28) -> 0 | J28: =IFERROR((H28/D28)^(1/4)-1,"-") -> - | K28: =IFERROR(D28/C28-1,"-") -> - | L28: =IFERROR(E28/D28-1,"-") -> - | M28: =IFERROR(F28/E28-1,"-") -> - | N28: =IFERROR(G28/F28-1,"-") -> - | O28: =IFERROR(H28/G28-1,"-") -> - | Q28: =Q29*Q4 -> 0 | R28: =R29*R4 -> 0 | S28: =S29*S4 -> 0 | T28: =T29*T4 -> 0 | U28: =U29*U4 -> 0 | V28: =V29*V4 -> 0 | W28: =W29*W4 -> 0 | X28: =X29*X4 -> 0 | ... BX28: =BX29*BX4 -> 0
A29: =CONFIG!$D$71 -> Coût unitaire | D29: =IFERROR(SUMPRODUCT(Q28:AB28,Q29:AB29)/D28,0) -> 0 | E29: =IFERROR(SUMPRODUCT(AC28:AN28,AC29:AN29)/E28,0) -> 0 | F29: =IFERROR(SUMPRODUCT(AO28:AZ28,AO29:AZ29)/F28,0) -> 0 | G29: =IFERROR(SUMPRODUCT(BA28:BL28,BA29:BL29)/G28,0) -> 0 | H29: =IFERROR(SUMPRODUCT(BM28:BX28,BM29:BX29)/H28,0) -> 0 | J29: =IFERROR((H29/D29)^(1/4)-1,"-") -> - | K29: =IFERROR(D29/C29-1,"-") -> - | L29: =IFERROR(E29/D29-1,"-") -> - | M29: =IFERROR(F29/E29-1,"-") -> - | N29: =IFERROR(G29/F29-1,"-") -> - | O29: =IFERROR(H29/G29-1,"-") -> - | Q29: 0 | R29: 0 | S29: 0 | T29: 0 | U29: 0 | V29: 0 | W29: 0 | X29: 0 | Y29: 0 | Z29: 0 | AA29: 0 | AB29: 0 | AC29: 0 | AD29: 0 | AE29: 0 | AF29: 0 | AG29: 0 | AH29: 0 | AI29: 0 | AJ29: 0 | AK29: 0 | AL29: 0 | AM29: 0 | AN29: 0 | AO29: 0 | AP29: 0 | AQ29: 0 | AR29: 0 | AS29: 0 | AT29: 0 | AU29: 0 | AV29: 0 | AW29: 0 | AX29: 0 | AY29: 0 | AZ29: 0 | BA29: 0 | BB29: 0 | BC29: 0 | BD29: 0 | BE29: 0 | BF29: 0 | BG29: 0 | BH29: 0 | BI29: 0 | BJ29: 0 | BK29: 0 | BL29: 0 | BM29: 0 | BN29: 0 | BO29: 0 | BP29: 0 | BQ29: 0 | BR29: 0 | BS29: 0 | BT29: 0 | BU29: 0 | BV29: 0 | BW29: 0 | BX29: 0
A30: =CONFIG!$D$70&" "&A6 -> AMMP Type de client 2 | D30: =SUM(Q30:AB30) -> 0 | E30: =SUM(AC30:AN30) -> 0 | F30: =SUM(AO30:AZ30) -> 0 | G30: =SUM(BA30:BL30) -> 0 | H30: =SUM(BM30:BX30) -> 0 | J30: =IFERROR((H30/D30)^(1/4)-1,"-") -> - | K30: =IFERROR(D30/C30-1,"-") -> - | L30: =IFERROR(E30/D30-1,"-") -> - | M30: =IFERROR(F30/E30-1,"-") -> - | N30: =IFERROR(G30/F30-1,"-") -> - | O30: =IFERROR(H30/G30-1,"-") -> - | Q30: =Q31*Q7 -> 0 | R30: =R31*R7 -> 0 | S30: =S31*S7 -> 0 | T30: =T31*T7 -> 0 | U30: =U31*U7 -> 0 | V30: =V31*V7 -> 0 | W30: =W31*W7 -> 0 | X30: =X31*X7 -> 0 | ... BX30: =BX31*BX7 -> 0
A31: =CONFIG!$D$71 -> Coût unitaire | D31: =IFERROR(SUMPRODUCT(Q30:AB30,Q31:AB31)/D30,0) -> 0 | E31: =IFERROR(SUMPRODUCT(AC30:AN30,AC31:AN31)/E30,0) -> 0 | F31: =IFERROR(SUMPRODUCT(AO30:AZ30,AO31:AZ31)/F30,0) -> 0 | G31: =IFERROR(SUMPRODUCT(BA30:BL30,BA31:BL31)/G30,0) -> 0 | H31: =IFERROR(SUMPRODUCT(BM30:BX30,BM31:BX31)/H30,0) -> 0 | J31: =IFERROR((H31/D31)^(1/4)-1,"-") -> - | K31: =IFERROR(D31/C31-1,"-") -> - | L31: =IFERROR(E31/D31-1,"-") -> - | M31: =IFERROR(F31/E31-1,"-") -> - | N31: =IFERROR(G31/F31-1,"-") -> - | O31: =IFERROR(H31/G31-1,"-") -> - | Q31: 0 | R31: 0 | S31: 0 | T31: 0 | U31: 0 | V31: 0 | W31: 0 | X31: 0 | Y31: 0 | Z31: 0 | AA31: 0 | AB31: 0 | AC31: 0 | AD31: 0 | AE31: 0 | AF31: 0 | AG31: 0 | AH31: 0 | AI31: 0 | AJ31: 0 | AK31: 0 | AL31: 0 | AM31: 0 | AN31: 0 | AO31: 0 | AP31: 0 | AQ31: 0 | AR31: 0 | AS31: 0 | AT31: 0 | AU31: 0 | AV31: 0 | AW31: 0 | AX31: 0 | AY31: 0 | AZ31: 0 | BA31: 0 | BB31: 0 | BC31: 0 | BD31: 0 | BE31: 0 | BF31: 0 | BG31: 0 | BH31: 0 | BI31: 0 | BJ31: 0 | BK31: 0 | BL31: 0 | BM31: 0 | BN31: 0 | BO31: 0 | BP31: 0 | BQ31: 0 | BR31: 0 | BS31: 0 | BT31: 0 | BU31: 0 | BV31: 0 | BW31: 0 | BX31: 0
A32: =CONFIG!$D$70&" "&A9 -> AMMP Activité 3 | D32: =SUM(Q32:AB32) -> 0 | E32: =SUM(AC32:AN32) -> 0 | F32: =SUM(AO32:AZ32) -> 0 | G32: =SUM(BA32:BL32) -> 0 | H32: =SUM(BM32:BX32) -> 0 | J32: =IFERROR((H32/D32)^(1/4)-1,"-") -> - | K32: =IFERROR(D32/C32-1,"-") -> - | L32: =IFERROR(E32/D32-1,"-") -> - | M32: =IFERROR(F32/E32-1,"-") -> - | N32: =IFERROR(G32/F32-1,"-") -> - | O32: =IFERROR(H32/G32-1,"-") -> - | Q32: =Q33*Q10 -> 0 | R32: =R33*R10 -> 0 | S32: =S33*S10 -> 0 | T32: =T33*T10 -> 0 | U32: =U33*U10 -> 0 | V32: =V33*V10 -> 0 | W32: =W33*W10 -> 0 | X32: =X33*X10 -> 0 | ... BX32: =BX33*BX10 -> 0
A33: =CONFIG!$D$71 -> Coût unitaire | D33: =IFERROR(SUMPRODUCT(Q32:AB32,Q33:AB33)/D32,0) -> 0 | E33: =IFERROR(SUMPRODUCT(AC32:AN32,AC33:AN33)/E32,0) -> 0 | F33: =IFERROR(SUMPRODUCT(AO32:AZ32,AO33:AZ33)/F32,0) -> 0 | G33: =IFERROR(SUMPRODUCT(BA32:BL32,BA33:BL33)/G32,0) -> 0 | H33: =IFERROR(SUMPRODUCT(BM32:BX32,BM33:BX33)/H32,0) -> 0 | J33: =IFERROR((H33/D33)^(1/4)-1,"-") -> - | K33: =IFERROR(D33/C33-1,"-") -> - | L33: =IFERROR(E33/D33-1,"-") -> - | M33: =IFERROR(F33/E33-1,"-") -> - | N33: =IFERROR(G33/F33-1,"-") -> - | O33: =IFERROR(H33/G33-1,"-") -> - | Q33: 0 | R33: 0 | S33: 0 | T33: 0 | U33: 0 | V33: 0 | W33: 0 | X33: 0 | Y33: 0 | Z33: 0 | AA33: 0 | AB33: 0 | AC33: 0 | AD33: 0 | AE33: 0 | AF33: 0 | AG33: 0 | AH33: 0 | AI33: 0 | AJ33: 0 | AK33: 0 | AL33: 0 | AM33: 0 | AN33: 0 | AO33: 0 | AP33: 0 | AQ33: 0 | AR33: 0 | AS33: 0 | AT33: 0 | AU33: 0 | AV33: 0 | AW33: 0 | AX33: 0 | AY33: 0 | AZ33: 0 | BA33: 0 | BB33: 0 | BC33: 0 | BD33: 0 | BE33: 0 | BF33: 0 | BG33: 0 | BH33: 0 | BI33: 0 | BJ33: 0 | BK33: 0 | BL33: 0 | BM33: 0 | BN33: 0 | BO33: 0 | BP33: 0 | BQ33: 0 | BR33: 0 | BS33: 0 | BT33: 0 | BU33: 0 | BV33: 0 | BW33: 0 | BX33: 0
A34: =CONFIG!$D$70&" "&A12 -> AMMP Activité 4 | D34: =SUM(Q34:AB34) -> 0 | E34: =SUM(AC34:AN34) -> 0 | F34: =SUM(AO34:AZ34) -> 0 | G34: =SUM(BA34:BL34) -> 0 | H34: =SUM(BM34:BX34) -> 0 | J34: =IFERROR((H34/D34)^(1/4)-1,"-") -> - | K34: =IFERROR(D34/C34-1,"-") -> - | L34: =IFERROR(E34/D34-1,"-") -> - | M34: =IFERROR(F34/E34-1,"-") -> - | N34: =IFERROR(G34/F34-1,"-") -> - | O34: =IFERROR(H34/G34-1,"-") -> - | Q34: =Q35*Q13 -> 0 | R34: =R35*R13 -> 0 | S34: =S35*S13 -> 0 | T34: =T35*T13 -> 0 | U34: =U35*U13 -> 0 | V34: =V35*V13 -> 0 | W34: =W35*W13 -> 0 | X34: =X35*X13 -> 0 | ... BX34: =BX35*BX13 -> 0
A35: =CONFIG!$D$71 -> Coût unitaire | D35: =IFERROR(SUMPRODUCT(Q34:AB34,Q35:AB35)/D34,0) -> 0 | E35: =IFERROR(SUMPRODUCT(AC34:AN34,AC35:AN35)/E34,0) -> 0 | F35: =IFERROR(SUMPRODUCT(AO34:AZ34,AO35:AZ35)/F34,0) -> 0 | G35: =IFERROR(SUMPRODUCT(BA34:BL34,BA35:BL35)/G34,0) -> 0 | H35: =IFERROR(SUMPRODUCT(BM34:BX34,BM35:BX35)/H34,0) -> 0 | J35: =IFERROR((H35/D35)^(1/4)-1,"-") -> - | K35: =IFERROR(D35/C35-1,"-") -> - | L35: =IFERROR(E35/D35-1,"-") -> - | M35: =IFERROR(F35/E35-1,"-") -> - | N35: =IFERROR(G35/F35-1,"-") -> - | O35: =IFERROR(H35/G35-1,"-") -> - | Q35: =0.2*Q14 -> 0 | R35: =0.2*R14 -> 0 | S35: =0.2*S14 -> 0 | T35: =0.2*T14 -> 0 | U35: =0.2*U14 -> 0 | V35: =0.2*V14 -> 0 | W35: =0.2*W14 -> 0 | X35: =0.2*X14 -> 0 | ... BX35: =0.2*BX14 -> 0
A36: =CONFIG!$D$70&" "&A15 -> AMMP Activité 5 | D36: =SUM(Q36:AB36) -> 0 | E36: =SUM(AC36:AN36) -> 0 | F36: =SUM(AO36:AZ36) -> 0 | G36: =SUM(BA36:BL36) -> 0 | H36: =SUM(BM36:BX36) -> 0 | J36: =IFERROR((H36/D36)^(1/4)-1,"-") -> - | K36: =IFERROR(D36/C36-1,"-") -> - | L36: =IFERROR(E36/D36-1,"-") -> - | M36: =IFERROR(F36/E36-1,"-") -> - | N36: =IFERROR(G36/F36-1,"-") -> - | O36: =IFERROR(H36/G36-1,"-") -> - | Q36: =Q37*Q16 -> 0 | R36: =R37*R16 -> 0 | S36: =S37*S16 -> 0 | T36: =T37*T16 -> 0 | U36: =U37*U16 -> 0 | V36: =V37*V16 -> 0 | W36: =W37*W16 -> 0 | X36: =X37*X16 -> 0 | ... BX36: =BX37*BX16 -> 0
A37: =CONFIG!$D$71 -> Coût unitaire | D37: =IFERROR(SUMPRODUCT(Q36:AB36,Q37:AB37)/D36,0) -> 0 | E37: =IFERROR(SUMPRODUCT(AC36:AN36,AC37:AN37)/E36,0) -> 0 | F37: =IFERROR(SUMPRODUCT(AO36:AZ36,AO37:AZ37)/F36,0) -> 0 | G37: =IFERROR(SUMPRODUCT(BA36:BL36,BA37:BL37)/G36,0) -> 0 | H37: =IFERROR(SUMPRODUCT(BM36:BX36,BM37:BX37)/H36,0) -> 0 | J37: =IFERROR((H37/D37)^(1/4)-1,"-") -> - | K37: =IFERROR(D37/C37-1,"-") -> - | L37: =IFERROR(E37/D37-1,"-") -> - | M37: =IFERROR(F37/E37-1,"-") -> - | N37: =IFERROR(G37/F37-1,"-") -> - | O37: =IFERROR(H37/G37-1,"-") -> - | Q37: =0.1*Q17 -> 0 | R37: =0.1*R17 -> 0 | S37: =0.1*S17 -> 0 | T37: =0.1*T17 -> 0 | U37: =0.1*U17 -> 0 | V37: =0.1*V17 -> 0 | W37: =0.1*W17 -> 0 | X37: =0.1*X17 -> 0 | ... BX37: =0.1*BX17 -> 0
A38: =CONFIG!$D$72 -> Marge Brute | C38: =C26-C27 -> 0 | D38: =D26-D27 -> 0 | E38: =E26-E27 -> 0 | F38: =F26-F27 -> 0 | G38: =G26-G27 -> 0 | H38: =H26-H27 -> 0 | J38: =IFERROR((H38/D38)^(1/4)-1,"-") -> - | K38: =IFERROR(D38/C38-1,"-") -> - | L38: =IFERROR(E38/D38-1,"-") -> - | M38: =IFERROR(F38/E38-1,"-") -> - | N38: =IFERROR(G38/F38-1,"-") -> - | O38: =IFERROR(H38/G38-1,"-") -> - | Q38: =Q26-Q27 -> 0 | R38: =R26-R27 -> 0 | S38: =S26-S27 -> 0 | T38: =T26-T27 -> 0 | U38: =U26-U27 -> 0 | V38: =V26-V27 -> 0 | W38: =W26-W27 -> 0 | X38: =X26-X27 -> 0 | ... BX38: =BX26-BX27 -> 0
A39: =CONFIG!$D$73 -> % Marge Brute | D39: =IFERROR(D38/D$18,"n.a") -> n.a | E39: =IFERROR(E38/E$18,"n.a") -> n.a | F39: =IFERROR(F38/F$18,"n.a") -> n.a | G39: =IFERROR(G38/G$18,"n.a") -> n.a | H39: =IFERROR(H38/H$18,"n.a") -> n.a | J39: =IFERROR((H39/D39)^(1/4)-1,"-") -> - | K39: =IFERROR(D39/C39-1,"-") -> - | L39: =IFERROR(E39/D39-1,"-") -> - | M39: =IFERROR(F39/E39-1,"-") -> - | N39: =IFERROR(G39/F39-1,"-") -> - | O39: =IFERROR(H39/G39-1,"-") -> - | Q39: =IFERROR(Q38/Q$18,"n.a") -> n.a | R39: =IFERROR(R38/R$18,"n.a") -> n.a | S39: =IFERROR(S38/S$18,"n.a") -> n.a | T39: =IFERROR(T38/T$18,"n.a") -> n.a | U39: =IFERROR(U38/U$18,"n.a") -> n.a | V39: =IFERROR(V38/V$18,"n.a") -> n.a | W39: =IFERROR(W38/W$18,"n.a") -> n.a | X39: =IFERROR(X38/X$18,"n.a") -> n.a | ... BX39: =IFERROR(BX38/BX$18,"n.a") -> n.a
A40: =CONFIG!$D$73&" "&A3 -> % Marge Brute Type de client 1 | D40: =IFERROR(((D3-D28)+SUM(D$19:D$25)*D3/D$18)/D3,0) -> 0 | E40: =IFERROR(((E3-E28)+SUM(E$19:E$25)*E3/E$18)/E3,0) -> 0 | F40: =IFERROR(((F3-F28)+SUM(F$19:F$25)*F3/F$18)/F3,0) -> 0 | G40: =IFERROR(((G3-G28)+SUM(G$19:G$25)*G3/G$18)/G3,0) -> 0 | H40: =IFERROR(((H3-H28)+SUM(H$19:H$25)*H3/H$18)/H3,0) -> 0 | J40: =IFERROR((H40/D40)^(1/4)-1,"-") -> - | K40: =IFERROR(D40/C40-1,"-") -> - | L40: =IFERROR(E40/D40-1,"-") -> - | M40: =IFERROR(F40/E40-1,"-") -> - | N40: =IFERROR(G40/F40-1,"-") -> - | O40: =IFERROR(H40/G40-1,"-") -> - | Q40: =iferror((Q3-Q28)/Q3,0) -> 0 | R40: =iferror((R3-R28)/R3,0) -> 0 | S40: =iferror((S3-S28)/S3,0) -> 0 | T40: =iferror((T3-T28)/T3,0) -> 0 | U40: =iferror((U3-U28)/U3,0) -> 0 | V40: =iferror((V3-V28)/V3,0) -> 0 | W40: =iferror((W3-W28)/W3,0) -> 0 | X40: =iferror((X3-X28)/X3,0) -> 0 | ... BX40: =iferror((BX3-BX28)/BX3,0) -> 0
...

Sheet TRESO
A1: =CONFIG!D104 -> Plan de Trésorerie | B1: =CONFIG!D105 -> Décalage vs CR en mois | D1: =CR!D1 -> 2026 | E1: =D1+1 -> 2027 | F1: =E1+1 -> 2028 | G1: =F1+1 -> 2029 | H1: =G1+1 -> 2030 | J1: =YEAR(J2) -> 2026 | K1: =YEAR(K2) -> 2026 | L1: =YEAR(L2) -> 2026 | M1: =YEAR(M2) -> 2026 | N1: =YEAR(N2) -> 2026 | O1: =YEAR(O2) -> 2026 | P1: =YEAR(P2) -> 2026 | Q1: =YEAR(Q2) -> 2026 | ... BQ1: =YEAR(BQ2) -> 2030
A2: COMPLETER UNIQUEMENT LES CASES JAUNES | D2: =CR!D2 -> 46387 | E2: =EDATE(D2,12) -> 46752 | F2: =EDATE(E2,12) -> 47118 | G2: =EDATE(F2,12) -> 47483 | H2: =EDATE(G2,12) -> 47848 | J2: =CR!Q2 -> 46023 | K2: =EDATE(J2,1) -> 46054 | L2: =EDATE(K2,1) -> 46082 | M2: =EDATE(L2,1) -> 46113 | N2: =EDATE(M2,1) -> 46143 | O2: =EDATE(N2,1) -> 46174 | P2: =EDATE(O2,1) -> 46204 | Q2: =EDATE(P2,1) -> 46235 | R2: =EDATE(Q2,1) -> 46266 | ... BQ2: =EDATE(BP2,1) -> 47818
A3: =CONFIG!D106 -> Total Encaissements d'exploitation | D3: =D4+D5 -> 0 | E3: =E4+E5 -> 0 | F3: =F4+F5 -> 0 | G3: =G4+G5 -> 0 | H3: =H4+H5 -> 0 | J3: =J4+J5 -> 0 | K3: =K4+K5 -> 0 | L3: =L4+L5 -> 0 | M3: =M4+M5 -> 0 | N3: =N4+N5 -> 0 | O3: =O4+O5 -> 0 | P3: =P4+P5 -> 0 | Q3: =Q4+Q5 -> 0 | ... BQ3: =BQ4+BQ5 -> 0
A4: =CR!A18 -> Chiffre d'affaires | D4: =SUM(J4:U4) -> 0 | E4: =SUM(V4:AG4) -> 0 | F4: =SUM(AH4:AS4) -> 0 | G4: =SUM(AT4:BE4) -> 0 | H4: =SUM(BF4:BQ4) -> 0 | J4: =OFFSET(CR!Q18,0,-$B4) -> 0 | K4: =OFFSET(CR!R18,0,-$B4) -> 0 | L4: =OFFSET(CR!S18,0,-$B4) -> 0 | M4: =OFFSET(CR!T18,0,-$B4) -> 0 | N4: =OFFSET(CR!U18,0,-$B4) -> 0 | O4: =OFFSET(CR!V18,0,-$B4) -> 0 | P4: =OFFSET(CR!W18,0,-$B4) -> 0 | Q4: =OFFSET(CR!X18,0,-$B4) -> 0 | ... BQ4: =OFFSET(CR!BX18,0,-$B4) -> 0
A5: =CR!A19 -> Subventions d'exploitation | B5: 0 | D5: =SUM(J5:U5) -> 0 | E5: =SUM(V5:AG5) -> 0 | F5: =SUM(AH5:AS5) -> 0 | G5: =SUM(AT5:BE5) -> 0 | H5: =SUM(BF5:BQ5) -> 0 | J5: =OFFSET(CR!Q19,0,-$B5) -> 0 | K5: =OFFSET(CR!R19,0,-$B5) -> 0 | L5: =OFFSET(CR!S19,0,-$B5) -> 0 | M5: =OFFSET(CR!T19,0,-$B5) -> 0 | N5: =OFFSET(CR!U19,0,-$B5) -> 0 | O5: =OFFSET(CR!V19,0,-$B5) -> 0 | P5: =OFFSET(CR!W19,0,-$B5) -> 0 | Q5: =OFFSET(CR!X19,0,-$B5) -> 0 | ... BQ5: =OFFSET(CR!BX19,0,-$B5) -> 0
A6: =CONFIG!D109 -> Total Décaissements d'exploitation | D6: =sum(D7,D8,D9,D11,D12,D13,D14,D21) -> 0 | E6: =sum(E7,E8,E9,E11,E12,E13,E14,E21) -> 0 | F6: =sum(F7,F8,F9,F11,F12,F13,F14,F21) -> 0 | G6: =sum(G7,G8,G9,G11,G12,G13,G14,G21) -> 0 | H6: =sum(H7,H8,H9,H11,H12,H13,H14,H21) -> 0 | J6: =sum(J7,J8,J9,J11,J12,J13,J14,J21) -> 0 | K6: =sum(K7,K8,K9,K11,K12,K13,K14,K21) -> 0 | L6: =sum(L7,L8,L9,L11,L12,L13,L14,L21) -> 0 | M6: =sum(M7,M8,M9,M11,M12,M13,M14,M21) -> 0 | N6: =sum(N7,N8,N9,N11,N12,N13,N14,N21) -> 0 | O6: =sum(O7,O8,O9,O11,O12,O13,O14,O21) -> 0 | P6: =sum(P7,P8,P9,P11,P12,P13,P14,P21) -> 0 | Q6: =sum(Q7,Q8,Q9,Q11,Q12,Q13,Q14,Q21) -> 0 | ... BQ6: =sum(BQ7,BQ8,BQ9,BQ11,BQ12,BQ13,BQ14,BQ21) -> 0
A7: =CR!A27 -> Achats de marchandises et de matières premières | B7: 0 | D7: =SUM(J7:U7) -> 0 | E7: =SUM(V7:AG7) -> 0 | F7: =SUM(AH7:AS7) -> 0 | G7: =SUM(AT7:BE7) -> 0 | H7: =SUM(BF7:BQ7) -> 0 | J7: =OFFSET(CR!Q27,0,-$B7) -> 0 | K7: =OFFSET(CR!R27,0,-$B7) -> 0 | L7: =OFFSET(CR!S27,0,-$B7) -> 0 | M7: =OFFSET(CR!T27,0,-$B7) -> 0 | N7: =OFFSET(CR!U27,0,-$B7) -> 0 | O7: =OFFSET(CR!V27,0,-$B7) -> 0 | P7: =OFFSET(CR!W27,0,-$B7) -> 0 | Q7: =OFFSET(CR!X27,0,-$B7) -> 0 | ... BQ7: =OFFSET(CR!BX27,0,-$B7) -> 0
A8: =CR!A45 -> Autres Achats et Charges Externes | B8: 0 | D8: =SUM(J8:U8) -> 0 | E8: =SUM(V8:AG8) -> 0 | F8: =SUM(AH8:AS8) -> 0 | G8: =SUM(AT8:BE8) -> 0 | H8: =SUM(BF8:BQ8) -> 0 | J8: =OFFSET(CR!Q45,0,-$B8) -> 0 | K8: =OFFSET(CR!R45,0,-$B8) -> 0 | L8: =OFFSET(CR!S45,0,-$B8) -> 0 | M8: =OFFSET(CR!T45,0,-$B8) -> 0 | N8: =OFFSET(CR!U45,0,-$B8) -> 0 | O8: =OFFSET(CR!V45,0,-$B8) -> 0 | P8: =OFFSET(CR!W45,0,-$B8) -> 0 | Q8: =OFFSET(CR!X45,0,-$B8) -> 0 | ... BQ8: =OFFSET(CR!BX45,0,-$B8) -> 0
A9: =CONFIG!D107 -> Salaires nets | B9: 1.22 | D9: =SUM(J9:U9) -> 0 | E9: =SUM(V9:AG9) -> 0 | F9: =SUM(AH9:AS9) -> 0 | G9: =SUM(AT9:BE9) -> 0 | H9: =SUM(BF9:BQ9) -> 0 | J9: =IFERROR(CR!Q61/J10/$B9,0) -> 0 | K9: =IFERROR(CR!R61/K10/$B9,0) -> 0 | L9: =IFERROR(CR!S61/L10/$B9,0) -> 0 | M9: =IFERROR(CR!T61/M10/$B9,0) -> 0 | N9: =IFERROR(CR!U61/N10/$B9,0) -> 0 | O9: =IFERROR(CR!V61/O10/$B9,0) -> 0 | P9: =IFERROR(CR!W61/P10/$B9,0) -> 0 | Q9: =IFERROR(CR!X61/Q10/$B9,0) -> 0 | ... BQ9: =IFERROR(CR!BX61/BQ10/$B9,0) -> 0
A10: Taux de charges patronales moyen | D10: =IFERROR(SUMPRODUCT(J10:U10,J9:U9)/D9,1.45) -> 1.45 | E10: =IFERROR(SUMPRODUCT(V10:AG10,V9:AG9)/E9,1.45) -> 1.45 | F10: =IFERROR(SUMPRODUCT(AH10:AS10,AH9:AS9)/F9,1.45) -> 1.45 | G10: =IFERROR(SUMPRODUCT(AT10:BE10,AT9:BE9)/G9,1.45) -> 1.45 | H10: =IFERROR(SUMPRODUCT(BF10:BQ10,BF9:BQ9)/H9,1.45) -> 1.45 | J10: {=IFERROR(SUMPRODUCT(vstack(CR!Q65,CR!Q69,CR!Q73,CR!Q77,CR!Q81,CR!Q85,CR!Q89,CR!Q93,CR!Q97,CR!Q101),vstack(CR!Q62,CR!Q66,CR!Q70,CR!Q74,CR!Q78,CR!Q82,CR!Q86,CR!Q90,CR!Q94,CR!Q98))/CR!Q61,1.45)} -> 1.45 | K10: {=IFERROR(SUMPRODUCT(vstack(CR!R65,CR!R69,CR!R73,CR!R77,CR!R81,CR!R85,CR!R89,CR!R93,CR!R97,CR!R101),vstack(CR!R62,CR!R66,CR!R70,CR!R74,CR!R78,CR!R82,CR!R86,CR!R90,CR!R94,CR!R98))/CR!R61,1.45)} -> 1.45 | L10: {=IFERROR(SUMPRODUCT(vstack(CR!S65,CR!S69,CR!S73,CR!S77,CR!S81,CR!S85,CR!S89,CR!S93,CR!S97,CR!S101),vstack(CR!S62,CR!S66,CR!S70,CR!S74,CR!S78,CR!S82,CR!S86,CR!S90,CR!S94,CR!S98))/CR!S61,1.45)} -> 1.45 | M10: {=IFERROR(SUMPRODUCT(vstack(CR!T65,CR!T69,CR!T73,CR!T77,CR!T81,CR!T85,CR!T89,CR!T93,CR!T97,CR!T101),vstack(CR!T62,CR!T66,CR!T70,CR!T74,CR!T78,CR!T82,CR!T86,CR!T90,CR!T94,CR!T98))/CR!T61,1.45)} -> 1.45 | N10: {=IFERROR(SUMPRODUCT(vstack(CR!U65,CR!U69,CR!U73,CR!U77,CR!U81,CR!U85,CR!U89,CR!U93,CR!U97,CR!U101),vstack(CR!U62,CR!U66,CR!U70,CR!U74,CR!U78,CR!U82,CR!U86,CR!U90,CR!U94,CR!U98))/CR!U61,1.45)} -> 1.45 | O10: {=IFERROR(SUMPRODUCT(vstack(CR!V65,CR!V69,CR!V73,CR!V77,CR!V81,CR!V85,CR!V89,CR!V93,CR!V97,CR!V101),vstack(CR!V62,CR!V66,CR!V70,CR!V74,CR!V78,CR!V82,CR!V86,CR!V90,CR!V94,CR!V98))/CR!V61,1.45)} -> 1.45 | P10: {=IFERROR(SUMPRODUCT(vstack(CR!W65,CR!W69,CR!W73,CR!W77,CR!W81,CR!W85,CR!W89,CR!W93,CR!W97,CR!W101),vstack(CR!W62,CR!W66,CR!W70,CR!W74,CR!W78,CR!W82,CR!W86,CR!W90,CR!W94,CR!W98))/CR!W61,1.45)} -> 1.45 | Q10: {=IFERROR(SUMPRODUCT(vstack(CR!X65,CR!X69,CR!X73,CR!X77,CR!X81,CR!X85,CR!X89,CR!X93,CR!X97,CR!X101),vstack(CR!X62,CR!X66,CR!X70,CR!X74,CR!X78,CR!X82,CR!X86,CR!X90,CR!X94,CR!X98))/CR!X61,1.45)} -> 1.45 | ... BQ10: {=IFERROR(SUMPRODUCT(vstack(CR!BX65,CR!BX69,CR!BX73,CR!BX77,CR!BX81,CR!BX85,CR!BX89,CR!BX93,CR!BX97,CR!BX101),vstack(CR!BX62,CR!BX66,CR!BX70,CR!BX74,CR!BX78,CR!BX82,CR!BX86,CR!BX90,CR!BX94,CR!BX98))/CR!BX61,1.45)} -> 1.45
A11: Charges Sociales | B11: 1 | D11: =SUM(J11:U11) -> 0 | E11: =SUM(V11:AG11) -> 0 | F11: =SUM(AH11:AS11) -> 0 | G11: =SUM(AT11:BE11) -> 0 | H11: =SUM(BF11:BQ11) -> 0 | J11: =K11 -> 0 | K11: =CR!Q61-J9 -> 0 | L11: =CR!R61-K9 -> 0 | M11: =CR!S61-L9 -> 0 | N11: =CR!T61-M9 -> 0 | O11: =CR!U61-N9 -> 0 | P11: =CR!V61-O9 -> 0 | Q11: =CR!W61-P9 -> 0 | R11: =CR!X61-Q9 -> 0 | ... BQ11: =CR!BW61-BP9 -> 0
A12: =CR!A103 -> Impôts et taxes | B12: 0 | D12: =SUM(J12:U12) -> 0 | E12: =SUM(V12:AG12) -> 0 | F12: =SUM(AH12:AS12) -> 0 | G12: =SUM(AT12:BE12) -> 0 | H12: =SUM(BF12:BQ12) -> 0 | J12: =CR!Q103 -> 0 | K12: =CR!R103 -> 0 | L12: =CR!S103 -> 0 | M12: =CR!T103 -> 0 | N12: =CR!U103 -> 0 | O12: =CR!V103 -> 0 | P12: =CR!W103 -> 0 | Q12: =CR!X103 -> 0 | ... BQ12: =CR!BX103 -> 0
A13: =CR!A104 -> Autres produits et charges d'exploitation | B13: 0 | D13: =SUM(J13:U13) -> 0 | E13: =SUM(V13:AG13) -> 0 | F13: =SUM(AH13:AS13) -> 0 | G13: =SUM(AT13:BE13) -> 0 | H13: =SUM(BF13:BQ13) -> 0 | J13: =CR!Q104 -> 0 | K13: =CR!R104 -> 0 | L13: =CR!S104 -> 0 | M13: =CR!T104 -> 0 | N13: =CR!U104 -> 0 | O13: =CR!V104 -> 0 | P13: =CR!W104 -> 0 | Q13: =CR!X104 -> 0 | ... BQ13: =CR!BX104 -> 0
A14: =CR!A115 -> Intérêts | D14: =SUM(J14:U14) -> 0 | E14: =SUM(V14:AG14) -> 0 | F14: =SUM(AH14:AS14) -> 0 | G14: =SUM(AT14:BE14) -> 0 | H14: =SUM(BF14:BQ14) -> 0 | J14: =SUM(J15,J16:J20) -> 0 | K14: =SUM(K15,K16:K20) -> 0 | L14: =SUM(L15,L16:L20) -> 0 | M14: =SUM(M15,M16:M20) -> 0 | N14: =SUM(N15,N16:N20) -> 0 | O14: =SUM(O15,O16:O20) -> 0 | P14: =SUM(P15,P16:P20) -> 0 | Q14: =SUM(Q15,Q16:Q20) -> 0 | ... BQ14: =SUM(BQ15,BQ16:BQ20) -> 0
A15: =CR!A116 -> Intérêts Prêts historiques | D15: =SUM(J15:U15) -> 0 | E15: =SUM(V15:AG15) -> 0 | F15: =SUM(AH15:AS15) -> 0 | G15: =SUM(AT15:BE15) -> 0 | H15: =SUM(BF15:BQ15) -> 0
A16: =A$14&" "&A26 -> Intérêts Prêt 1 | D16: =SUM(J16:U16) -> 0 | E16: =SUM(V16:AG16) -> 0 | F16: =SUM(AH16:AS16) -> 0 | G16: =SUM(AT16:BE16) -> 0 | H16: =SUM(BF16:BQ16) -> 0 | J16: =IFERROR(IF(J$2<$B28,0,IF(J$2<$B30,$B27*$B26/12,-IPMT($B27/12,DATEDIF($B30,J$2,"M")+1,$B29*12,$B26))),) | K16: =IFERROR(IF(K$2<$B28,0,IF(K$2<$B30,$B27*$B26/12,-IPMT($B27/12,DATEDIF($B30,K$2,"M")+1,$B29*12,$B26))),) | L16: =IFERROR(IF(L$2<$B28,0,IF(L$2<$B30,$B27*$B26/12,-IPMT($B27/12,DATEDIF($B30,L$2,"M")+1,$B29*12,$B26))),) | M16: =IFERROR(IF(M$2<$B28,0,IF(M$2<$B30,$B27*$B26/12,-IPMT($B27/12,DATEDIF($B30,M$2,"M")+1,$B29*12,$B26))),) | N16: =IFERROR(IF(N$2<$B28,0,IF(N$2<$B30,$B27*$B26/12,-IPMT($B27/12,DATEDIF($B30,N$2,"M")+1,$B29*12,$B26))),) | O16: =IFERROR(IF(O$2<$B28,0,IF(O$2<$B30,$B27*$B26/12,-IPMT($B27/12,DATEDIF($B30,O$2,"M")+1,$B29*12,$B26))),) | P16: =IFERROR(IF(P$2<$B28,0,IF(P$2<$B30,$B27*$B26/12,-IPMT($B27/12,DATEDIF($B30,P$2,"M")+1,$B29*12,$B26))),) | Q16: =IFERROR(IF(Q$2<$B28,0,IF(Q$2<$B30,$B27*$B26/12,-IPMT($B27/12,DATEDIF($B30,Q$2,"M")+1,$B29*12,$B26))),) | ... BQ16: =IFERROR(IF(BQ$2<$B28,0,IF(BQ$2<$B30,$B27*$B26/12,-IPMT($B27/12,DATEDIF($B30,BQ$2,"M")+1,$B29*12,$B26))),)
A17: =A$14&" "&A31 -> Intérêts Prêt 2 | D17: =SUM(J17:U17) -> 0 | E17: =SUM(V17:AG17) -> 0 | F17: =SUM(AH17:AS17) -> 0 | G17: =SUM(AT17:BE17) -> 0 | H17: =SUM(BF17:BQ17) -> 0 | J17: =IFERROR(IF(J$2<$B33,0,IF(J$2<$B35,$B32*$B31/12,-IPMT($B32/12,DATEDIF($B35,J$2,"M")+1,$B34*12,$B31))),) | K17: =IFERROR(IF(K$2<$B33,0,IF(K$2<$B35,$B32*$B31/12,-IPMT($B32/12,DATEDIF($B35,K$2,"M")+1,$B34*12,$B31))),) | L17: =IFERROR(IF(L$2<$B33,0,IF(L$2<$B35,$B32*$B31/12,-IPMT($B32/12,DATEDIF($B35,L$2,"M")+1,$B34*12,$B31))),) | M17: =IFERROR(IF(M$2<$B33,0,IF(M$2<$B35,$B32*$B31/12,-IPMT($B32/12,DATEDIF($B35,M$2,"M")+1,$B34*12,$B31))),) | N17: =IFERROR(IF(N$2<$B33,0,IF(N$2<$B35,$B32*$B31/12,-IPMT($B32/12,DATEDIF($B35,N$2,"M")+1,$B34*12,$B31))),) | O17: =IFERROR(IF(O$2<$B33,0,IF(O$2<$B35,$B32*$B31/12,-IPMT($B32/12,DATEDIF($B35,O$2,"M")+1,$B34*12,$B31))),) | P17: =IFERROR(IF(P$2<$B33,0,IF(P$2<$B35,$B32*$B31/12,-IPMT($B32/12,DATEDIF($B35,P$2,"M")+1,$B34*12,$B31))),) | Q17: =IFERROR(IF(Q$2<$B33,0,IF(Q$2<$B35,$B32*$B31/12,-IPMT($B32/12,DATEDIF($B35,Q$2,"M")+1,$B34*12,$B31))),) | ... BQ17: =IFERROR(IF(BQ$2<$B33,0,IF(BQ$2<$B35,$B32*$B31/12,-IPMT($B32/12,DATEDIF($B35,BQ$2,"M")+1,$B34*12,$B31))),)
A18: =A$14&" "&A36 -> Intérêts Prêt 3 | D18: =SUM(J18:U18) -> 0 | E18: =SUM(V18:AG18) -> 0 | F18: =SUM(AH18:AS18) -> 0 | G18: =SUM(AT18:BE18) -> 0 | H18: =SUM(BF18:BQ18) -> 0 | J18: =IFERROR(IF(J$2<$B38,0,IF(J$2<$B40,$B37*$B36/12,-IPMT($B37/12,DATEDIF($B40,J$2,"M")+1,$B39*12,$B36))),) | K18: =IFERROR(IF(K$2<$B38,0,IF(K$2<$B40,$B37*$B36/12,-IPMT($B37/12,DATEDIF($B40,K$2,"M")+1,$B39*12,$B36))),) | L18: =IFERROR(IF(L$2<$B38,0,IF(L$2<$B40,$B37*$B36/12,-IPMT($B37/12,DATEDIF($B40,L$2,"M")+1,$B39*12,$B36))),) | M18: =IFERROR(IF(M$2<$B38,0,IF(M$2<$B40,$B37*$B36/12,-IPMT($B37/12,DATEDIF($B40,M$2,"M")+1,$B39*12,$B36))),) | N18: =IFERROR(IF(N$2<$B38,0,IF(N$2<$B40,$B37*$B36/12,-IPMT($B37/12,DATEDIF($B40,N$2,"M")+1,$B39*12,$B36))),) | O18: =IFERROR(IF(O$2<$B38,0,IF(O$2<$B40,$B37*$B36/12,-IPMT($B37/12,DATEDIF($B40,O$2,"M")+1,$B39*12,$B36))),) | P18: =IFERROR(IF(P$2<$B38,0,IF(P$2<$B40,$B37*$B36/12,-IPMT($B37/12,DATEDIF($B40,P$2,"M")+1,$B39*12,$B36))),) | Q18: =IFERROR(IF(Q$2<$B38,0,IF(Q$2<$B40,$B37*$B36/12,-IPMT($B37/12,DATEDIF($B40,Q$2,"M")+1,$B39*12,$B36))),) | ... BQ18: =IFERROR(IF(BQ$2<$B38,0,IF(BQ$2<$B40,$B37*$B36/12,-IPMT($B37/12,DATEDIF($B40,BQ$2,"M")+1,$B39*12,$B36))),)
A19: =A$14&" "&A41 -> Intérêts Prêt 4 | D19: =SUM(J19:U19) -> 0 | E19: =SUM(V19:AG19) -> 0 | F19: =SUM(AH19:AS19) -> 0 | G19: =SUM(AT19:BE19) -> 0 | H19: =SUM(BF19:BQ19) -> 0 | J19: =IFERROR(IF(J$2<$B43,0,IF(J$2<$B45,$B42*$B41/12,-IPMT($B42/12,DATEDIF($B45,J$2,"M")+1,$B44*12,$B41))),) | K19: =IFERROR(IF(K$2<$B43,0,IF(K$2<$B45,$B42*$B41/12,-IPMT($B42/12,DATEDIF($B45,K$2,"M")+1,$B44*12,$B41))),) | L19: =IFERROR(IF(L$2<$B43,0,IF(L$2<$B45,$B42*$B41/12,-IPMT($B42/12,DATEDIF($B45,L$2,"M")+1,$B44*12,$B41))),) | M19: =IFERROR(IF(M$2<$B43,0,IF(M$2<$B45,$B42*$B41/12,-IPMT($B42/12,DATEDIF($B45,M$2,"M")+1,$B44*12,$B41))),) | N19: =IFERROR(IF(N$2<$B43,0,IF(N$2<$B45,$B42*$B41/12,-IPMT($B42/12,DATEDIF($B45,N$2,"M")+1,$B44*12,$B41))),) | O19: =IFERROR(IF(O$2<$B43,0,IF(O$2<$B45,$B42*$B41/12,-IPMT($B42/12,DATEDIF($B45,O$2,"M")+1,$B44*12,$B41))),) | P19: =IFERROR(IF(P$2<$B43,0,IF(P$2<$B45,$B42*$B41/12,-IPMT($B42/12,DATEDIF($B45,P$2,"M")+1,$B44*12,$B41))),) | Q19: =IFERROR(IF(Q$2<$B43,0,IF(Q$2<$B45,$B42*$B41/12,-IPMT($B42/12,DATEDIF($B45,Q$2,"M")+1,$B44*12,$B41))),) | ... BQ19: =IFERROR(IF(BQ$2<$B43,0,IF(BQ$2<$B45,$B42*$B41/12,-IPMT($B42/12,DATEDIF($B45,BQ$2,"M")+1,$B44*12,$B41))),)
A20: =A$14&" "&A46 -> Intérêts Prêt 5 | D20: =SUM(J20:U20) -> 0 | E20: =SUM(V20:AG20) -> 0 | F20: =SUM(AH20:AS20) -> 0 | G20: =SUM(AT20:BE20) -> 0 | H20: =SUM(BF20:BQ20) -> 0 | J20: =IFERROR(IF(J$2<$B48,0,IF(J$2<$B50,$B47*$B46/12,-IPMT($B47/12,DATEDIF($B50,J$2,"M")+1,$B49*12,$B46))),) | K20: =IFERROR(IF(K$2<$B48,0,IF(K$2<$B50,$B47*$B46/12,-IPMT($B47/12,DATEDIF($B50,K$2,"M")+1,$B49*12,$B46))),) | L20: =IFERROR(IF(L$2<$B48,0,IF(L$2<$B50,$B47*$B46/12,-IPMT($B47/12,DATEDIF($B50,L$2,"M")+1,$B49*12,$B46))),) | M20: =IFERROR(IF(M$2<$B48,0,IF(M$2<$B50,$B47*$B46/12,-IPMT($B47/12,DATEDIF($B50,M$2,"M")+1,$B49*12,$B46))),) | N20: =IFERROR(IF(N$2<$B48,0,IF(N$2<$B50,$B47*$B46/12,-IPMT($B47/12,DATEDIF($B50,N$2,"M")+1,$B49*12,$B46))),) | O20: =IFERROR(IF(O$2<$B48,0,IF(O$2<$B50,$B47*$B46/12,-IPMT($B47/12,DATEDIF($B50,O$2,"M")+1,$B49*12,$B46))),) | P20: =IFERROR(IF(P$2<$B48,0,IF(P$2<$B50,$B47*$B46/12,-IPMT($B47/12,DATEDIF($B50,P$2,"M")+1,$B49*12,$B46))),) | Q20: =IFERROR(IF(Q$2<$B48,0,IF(Q$2<$B50,$B47*$B46/12,-IPMT($B47/12,DATEDIF($B50,Q$2,"M")+1,$B49*12,$B46))),) | ... BQ20: =IFERROR(IF(BQ$2<$B48,0,IF(BQ$2<$B50,$B47*$B46/12,-IPMT($B47/12,DATEDIF($B50,BQ$2,"M")+1,$B49*12,$B46))),)
A21: =CR!A124 -> Impôt sur les sociétés | B21: 0 | D21: =SUM(J21:U21) -> 0 | E21: =SUM(V21:AG21) -> 0 | F21: =SUM(AH21:AS21) -> 0 | G21: =SUM(AT21:BE21) -> 0 | H21: =SUM(BF21:BQ21) -> 0 | J21: =CR!Q124 -> 0 | K21: =CR!R124 -> 0 | L21: =CR!S124 -> 0 | M21: =CR!T124 -> 0 | N21: =CR!U124 -> 0 | O21: =CR!V124 -> 0 | P21: =CR!W124 -> 0 | Q21: =CR!X124 -> 0 | ... BQ21: =CR!BX124 -> 0
A22: =CONFIG!D110 -> Flux de trésorerie d'exploitation | D22: =D3-D6 -> 0 | E22: =E3-E6 -> 0 | F22: =F3-F6 -> 0 | G22: =G3-G6 -> 0 | H22: =H3-H6 -> 0 | J22: =J3-J6 -> 0 | K22: =K3-K6 -> 0 | L22: =L3-L6 -> 0 | M22: =M3-M6 -> 0 | N22: =N3-N6 -> 0 | O22: =O3-O6 -> 0 | P22: =P3-P6 -> 0 | Q22: =Q3-Q6 -> 0 | ... BQ22: =BQ3-BQ6 -> 0
A23: =CONFIG!D111 -> Apports en capital | D23: =SUM(J23:U23) -> 0 | E23: =SUM(V23:AG23) -> 0 | F23: =SUM(AH23:AS23) -> 0 | G23: =SUM(AT23:BE23) -> 0 | H23: =SUM(BF23:BQ23) -> 0
A24: =CONFIG!D112 -> Apports en compte courant | D24: =SUM(J24:U24) -> 0 | E24: =SUM(V24:AG24) -> 0 | F24: =SUM(AH24:AS24) -> 0 | G24: =SUM(AT24:BE24) -> 0 | H24: =SUM(BF24:BQ24) -> 0
A25: =CONFIG!D113 -> Emprunts | D25: =SUM(J25:U25) -> 0 | E25: =SUM(V25:AG25) -> 0 | F25: =SUM(AH25:AS25) -> 0 | G25: =SUM(AT25:BE25) -> 0 | H25: =SUM(BF25:BQ25) -> 0 | J25: =SUM(J26,J31,J36,J41,J46) -> 0 | K25: =SUM(K26,K31,K36,K41,K46) -> 0 | L25: =SUM(L26,L31,L36,L41,L46) -> 0 | M25: =SUM(M26,M31,M36,M41,M46) -> 0 | N25: =SUM(N26,N31,N36,N41,N46) -> 0 | O25: =SUM(O26,O31,O36,O41,O46) -> 0 | P25: =SUM(P26,P31,P36,P41,P46) -> 0 | Q25: =SUM(Q26,Q31,Q36,Q41,Q46) -> 0 | ... BQ25: =SUM(BQ26,BQ31,BQ36,BQ41,BQ46) -> 0
A26: Prêt 1 | D26: =SUM(J26:U26) -> 0 | E26: =SUM(V26:AG26) -> 0 | F26: =SUM(AH26:AS26) -> 0 | G26: =SUM(AT26:BE26) -> 0 | H26: =SUM(BF26:BQ26) -> 0 | J26: =IF(AND(MONTH($B28)=MONTH(J$2),YEAR($B28)=YEAR(J$2)),$B26,0) -> 0 | K26: =IF(AND(MONTH($B28)=MONTH(K$2),YEAR($B28)=YEAR(K$2)),$B26,0) -> 0 | L26: =IF(AND(MONTH($B28)=MONTH(L$2),YEAR($B28)=YEAR(L$2)),$B26,0) -> 0 | M26: =IF(AND(MONTH($B28)=MONTH(M$2),YEAR($B28)=YEAR(M$2)),$B26,0) -> 0 | N26: =IF(AND(MONTH($B28)=MONTH(N$2),YEAR($B28)=YEAR(N$2)),$B26,0) -> 0 | O26: =IF(AND(MONTH($B28)=MONTH(O$2),YEAR($B28)=YEAR(O$2)),$B26,0) -> 0 | P26: =IF(AND(MONTH($B28)=MONTH(P$2),YEAR($B28)=YEAR(P$2)),$B26,0) -> 0 | Q26: =IF(AND(MONTH($B28)=MONTH(Q$2),YEAR($B28)=YEAR(Q$2)),$B26,0) -> 0 | ... BQ26: =IF(AND(MONTH($B28)=MONTH(BQ$2),YEAR($B28)=YEAR(BQ$2)),$B26,0) -> 0
A27: =CONFIG!D114 -> Taux | D27: =$B27 | E27: =$B27 | F27: =$B27 | G27: =$B27 | H27: =$B27 | J27: =$B27 | K27: =$B27 | L27: =$B27 | M27: =$B27 | N27: =$B27 | O27: =$B27 | P27: =$B27 | Q27: =$B27 | ... BQ27: =$B27
A28: =CONFIG!D115 -> Date | D28: =$B28 | E28: =$B28 | F28: =$B28 | G28: =$B28 | H28: =$B28 | J28: =$B28 | K28: =$B28 | L28: =$B28 | M28: =$B28 | N28: =$B28 | O28: =$B28 | P28: =$B28 | Q28: =$B28 | ... BQ28: =$B28
A29: =CONFIG!D116 -> Durée | D29: =$B29 | E29: =$B29 | F29: =$B29 | G29: =$B29 | H29: =$B29 | J29: =$B29 | K29: =$B29 | L29: =$B29 | M29: =$B29 | N29: =$B29 | O29: =$B29 | P29: =$B29 | Q29: =$B29 | ... BQ29: =$B29
A30: =CONFIG!D117 -> Début Amo | D30: =$B30 | E30: =$B30 | F30: =$B30 | G30: =$B30 | H30: =$B30 | J30: =$B30 | K30: =$B30 | L30: =$B30 | M30: =$B30 | N30: =$B30 | O30: =$B30 | P30: =$B30 | Q30: =$B30 | ... BQ30: =$B30
A31: Prêt 2 | D31: =SUM(J31:U31) -> 0 | E31: =SUM(V31:AG31) -> 0 | F31: =SUM(AH31:AS31) -> 0 | G31: =SUM(AT31:BE31) -> 0 | H31: =SUM(BF31:BQ31) -> 0 | J31: =IF(AND(MONTH($B33)=MONTH(J$2),YEAR($B33)=YEAR(J$2)),$B31,0) -> 0 | K31: =IF(AND(MONTH($B33)=MONTH(K$2),YEAR($B33)=YEAR(K$2)),$B31,0) -> 0 | L31: =IF(AND(MONTH($B33)=MONTH(L$2),YEAR($B33)=YEAR(L$2)),$B31,0) -> 0 | M31: =IF(AND(MONTH($B33)=MONTH(M$2),YEAR($B33)=YEAR(M$2)),$B31,0) -> 0 | N31: =IF(AND(MONTH($B33)=MONTH(N$2),YEAR($B33)=YEAR(N$2)),$B31,0) -> 0 | O31: =IF(AND(MONTH($B33)=MONTH(O$2),YEAR($B33)=YEAR(O$2)),$B31,0) -> 0 | P31: =IF(AND(MONTH($B33)=MONTH(P$2),YEAR($B33)=YEAR(P$2)),$B31,0) -> 0 | Q31: =IF(AND(MONTH($B33)=MONTH(Q$2),YEAR($B33)=YEAR(Q$2)),$B31,0) -> 0 | ... BQ31: =IF(AND(MONTH($B33)=MONTH(BQ$2),YEAR($B33)=YEAR(BQ$2)),$B31,0) -> 0
A32: =A27 -> Taux | D32: =$B32 | E32: =$B32 | F32: =$B32 | G32: =$B32 | H32: =$B32 | J32: =$B32 | K32: =$B32 | L32: =$B32 | M32: =$B32 | N32: =$B32 | O32: =$B32 | P32: =$B32 | Q32: =$B32 | ... BQ32: =$B32
A33: =A28 -> Date | D33: =$B33 | E33: =$B33 | F33: =$B33 | G33: =$B33 | H33: =$B33 | J33: =$B33 | K33: =$B33 | L33: =$B33 | M33: =$B33 | N33: =$B33 | O33: =$B33 | P33: =$B33 | Q33: =$B33 | ... BQ33: =$B33
A34: =A29 -> Durée | D34: =$B34 | E34: =$B34 | F34: =$B34 | G34: =$B34 | H34: =$B34 | J34: =$B34 | K34: =$B34 | L34: =$B34 | M34: =$B34 | N34: =$B34 | O34: =$B34 | P34: =$B34 | Q34: =$B34 | ... BQ34: =$B34
A35: =A30 -> Début Amo | D35: =$B35 | E35: =$B35 | F35: =$B35 | G35: =$B35 | H35: =$B35 | J35: =$B35 | K35: =$B35 | L35: =$B35 | M35: =$B35 | N35: =$B35 | O35: =$B35 | P35: =$B35 | Q35: =$B35 | ... BQ35: =$B35
A36: Prêt 3 | D36: =SUM(J36:U36) -> 0 | E36: =SUM(V36:AG36) -> 0 | F36: =SUM(AH36:AS36) -> 0 | G36: =SUM(AT36:BE36) -> 0 | H36: =SUM(BF36:BQ36) -> 0 | J36: =IF(AND(MONTH($B38)=MONTH(J$2),YEAR($B38)=YEAR(J$2)),$B36,0) -> 0 | K36: =IF(AND(MONTH($B38)=MONTH(K$2),YEAR($B38)=YEAR(K$2)),$B36,0) -> 0 | L36: =IF(AND(MONTH($B38)=MONTH(L$2),YEAR($B38)=YEAR(L$2)),$B36,0) -> 0 | M36: =IF(AND(MONTH($B38)=MONTH(M$2),YEAR($B38)=YEAR(M$2)),$B36,0) -> 0 | N36: =IF(AND(MONTH($B38)=MONTH(N$2),YEAR($B38)=YEAR(N$2)),$B36,0) -> 0 | O36: =IF(AND(MONTH($B38)=MONTH(O$2),YEAR($B38)=YEAR(O$2)),$B36,0) -> 0 | P36: =IF(AND(MONTH($B38)=MONTH(P$2),YEAR($B38)=YEAR(P$2)),$B36,0) -> 0 | Q36: =IF(AND(MONTH($B38)=MONTH(Q$2),YEAR($B38)=YEAR(Q$2)),$B36,0) -> 0 | ... BQ36: =IF(AND(MONTH($B38)=MONTH(BQ$2),YEAR($B38)=YEAR(BQ$2)),$B36,0) -> 0
A37: =A32 -> Taux | D37: =$B37 | E37: =$B37 | F37: =$B37 | G37: =$B37 | H37: =$B37 | J37: =$B37 | K37: =$B37 | L37: =$B37 | M37: =$B37 | N37: =$B37 | O37: =$B37 | P37: =$B37 | Q37: =$B37 | ... BQ37: =$B37
A38: =A33 -> Date | D38: =$B38 | E38: =$B38 | F38: =$B38 | G38: =$B38 | H38: =$B38 | J38: =$B38 | K38: =$B38 | L38: =$B38 | M38: =$B38 | N38: =$B38 | O38: =$B38 | P38: =$B38 | Q38: =$B38 | ... BQ38: =$B38
A39: =A34 -> Durée | D39: =$B39 | E39: =$B39 | F39: =$B39 | G39: =$B39 | H39: =$B39 | J39: =$B39 | K39: =$B39 | L39: =$B39 | M39: =$B39 | N39: =$B39 | O39: =$B39 | P39: =$B39 | Q39: =$B39 | ... BQ39: =$B39
A40: =A35 -> Début Amo | D40: =$B40 | E40: =$B40 | F40: =$B40 | G40: =$B40 | H40: =$B40 | J40: =$B40 | K40: =$B40 | L40: =$B40 | M40: =$B40 | N40: =$B40 | O40: =$B40 | P40: =$B40 | Q40: =$B40 | ... BQ40: =$B40
...

Sheet PLAN DE FIN
A1: =CONFIG!D141 -> Plan de financement | B1: =C1-1 -> 2025 | C1: =CR!D1 -> 2026 | D1: =C1+1 -> 2027 | E1: =D1+1 -> 2028 | F1: =E1+1 -> 2029 | G1: =F1+1 -> 2030
A2: COMPLETER UNIQUEMENT LES CASES JAUNES
A3: =TRESO!A53 -> Investissements | C3: =TRESO!D53 -> 0 | D3: =TRESO!E53 -> 0 | E3: =TRESO!F53 -> 0 | F3: =TRESO!G53 -> 0 | G3: =TRESO!H53 -> 0
A4: =TRESO!A59 -> Remboursements emprunts | C4: =TRESO!D59 -> 0 | D4: =TRESO!E59 -> 0 | E4: =TRESO!F59 -> 0 | F4: =TRESO!G59 -> 0 | G4: =TRESO!H59 -> 0
A5: =TRESO!A66 -> Remboursement compte courant d'associés | C5: =TRESO!D66 -> 0 | D5: =TRESO!E66 -> 0 | E5: =TRESO!F66 -> 0 | F5: =TRESO!G66 -> 0 | G5: =TRESO!H66 -> 0
A6: =CONFIG!D142 -> Variation de BFR | C6: =(C16+C14-SUM(C3:C5,C7))-TRESO!D71 -> 0 | D6: =(D16+D14-SUM(D3:D5,D7))-TRESO!E71 -> 0 | E6: =(E16+E14-SUM(E3:E5,E7))-TRESO!F71 -> 0 | F6: =(F16+F14-SUM(F3:F5,F7))-TRESO!G71 -> 0 | G6: =(G16+G14-SUM(G3:G5,G7))-TRESO!H71 -> 0
A7: =CONFIG!D136 -> Capacité d'autofinancement négative | C7: =IF(CR!D129<=0,-CR!D129,0) -> 0 | D7: =IF(CR!E129<=0,-CR!E129,0) -> 0 | E7: =IF(CR!F129<=0,-CR!F129,0) -> 0 | F7: =IF(CR!G129<=0,-CR!G129,0) -> 0 | G7: =IF(CR!H129<=0,-CR!H129,0) -> 0
A8: =CONFIG!D137 -> Total Emplois | C8: =SUM(C3:C7) -> 0 | D8: =SUM(D3:D7) -> 0 | E8: =SUM(E3:E7) -> 0 | F8: =SUM(F3:F7) -> 0 | G8: =SUM(G3:G7) -> 0
A9: =CONFIG!D138 -> Capacité d'autofinancement positive | C9: =IF(CR!D129>0,CR!D129,0) -> 0 | D9: =IF(CR!E129>0,CR!E129,0) -> 0 | E9: =IF(CR!F129>0,CR!F129,0) -> 0 | F9: =IF(CR!G129>0,CR!G129,0) -> 0 | G9: =IF(CR!H129>0,CR!H129,0) -> 0
A10: =TRESO!A25 -> Emprunts | C10: =TRESO!D25 -> 0 | D10: =TRESO!E25 -> 0 | E10: =TRESO!F25 -> 0 | F10: =TRESO!G25 -> 0 | G10: =TRESO!H25 -> 0
A11: =TRESO!A23 -> Apports en capital | C11: =TRESO!D23 -> 0 | D11: =TRESO!E23 -> 0 | E11: =TRESO!F23 -> 0 | F11: =TRESO!G23 -> 0 | G11: =TRESO!H23 -> 0
A12: =TRESO!A24 -> Apports en compte courant | C12: =TRESO!D24 -> 0 | D12: =TRESO!E24 -> 0 | E12: =TRESO!F24 -> 0 | F12: =TRESO!G24 -> 0 | G12: =TRESO!H24 -> 0
A13: =TRESO!A51 -> Subventions d'investissement | C13: =TRESO!D51 -> 0 | D13: =TRESO!E51 -> 0 | E13: =TRESO!F51 -> 0 | F13: =TRESO!G51 -> 0 | G13: =TRESO!H51 -> 0
A14: =CONFIG!D139 -> Total Ressources | C14: =SUM(C9:C13) -> 0 | D14: =SUM(D9:D13) -> 0 | E14: =SUM(E9:E13) -> 0 | F14: =SUM(F9:F13) -> 0 | G14: =SUM(G9:G13) -> 0
A15: =CONFIG!D140 -> Ressources - Emplois | C15: =C14-C8 -> 0 | D15: =D14-D8 -> 0 | E15: =E14-E8 -> 0 | F15: =F14-F8 -> 0 | G15: =G14-G8 -> 0
A16: =TRESO!A70 -> Trésorerie début de période | C16: =TRESO!D70 -> 0 | D16: =C17 -> 0 | E16: =D17 -> 0 | F16: =E17 -> 0 | G16: =F17 -> 0
A17: =TRESO!A71 -> Solde de trésorerie fin de période | C17: =C16+C15 -> 0 | D17: =D16+D15 -> 0 | E17: =E16+E15 -> 0 | F17: =F16+F15 -> 0 | G17: =G16+G15 -> 0
A19: =CONFIG!D143 -> Fonds propres et endettement | B19: =C19-1 -> 2025 | C19: =C1 -> 2026 | D19: =D1 -> 2027 | E19: =E1 -> 2028 | F19: =F1 -> 2029 | G19: =G1 -> 2030
A20: =CONFIG!D144 -> Fonds propres fin de période | B20: =SUM(B21:B25) -> 0 | C20: =SUM(C21:C24) -> 0 | D20: =SUM(D21:D24) -> 0 | E20: =SUM(E21:E24) -> 0 | F20: =SUM(F21:F24) -> 0 | G20: =SUM(G21:G24) -> 0
A21: =CONFIG!D145 -> Capital + Primes d'émissions | C21: =B21+C11 -> 0 | D21: =C21+D11 -> 0 | E21: =D21+E11 -> 0 | F21: =E21+F11 -> 0 | G21: =F21+G11 -> 0
A22: =CONFIG!D146 -> Réserves et Report à nouveau | C22: =B22+B23 -> 0 | D22: =C22+C23 -> 0 | E22: =D22+D23 -> 0 | F22: =E22+E23 -> 0 | G22: =F22+F23 -> 0
A23: =CONFIG!D147 -> Résultat net | C23: =CR!D127 -> 0 | D23: =CR!E127 -> 0 | E23: =CR!F127 -> 0 | F23: =CR!G127 -> 0 | G23: =CR!H127 -> 0
A24: =CONFIG!D148 -> Subvention d'investissement | C24: =B24+C13-C25 -> 0 | D24: =C24+D13-D25 -> 0 | E24: =D24+E13-E25 -> 0 | F24: =E24+F13-F25 -> 0 | G24: =F24+G13-G25 -> 0
A25: =CONFIG!D149 -> QP de sub d'invest virée au résultat | C25: =CR!D122 -> 0 | D25: =CR!E122 -> 0 | E25: =CR!F122 -> 0 | F25: =CR!G122 -> 0 | G25: =CR!H122 -> 0
A26: =CONFIG!D150 -> Endettement fin de période | C26: =B26+C10-C4 -> 0 | D26: =C26+D10-D4 -> 0 | E26: =D26+E10-E4 -> 0 | F26: =E26+F10-F4 -> 0 | G26: =F26+G10-G4 -> 0
A27: =CONFIG!D151 -> Endettement sur Fonds Propres fin de période | B27: =IFERROR(B26/B20,"n.a") -> n.a | C27: =IFERROR(C26/C20,"n.a") -> n.a | D27: =IFERROR(D26/D20,"n.a") -> n.a | E27: =IFERROR(E26/E20,"n.a") -> n.a | F27: =IFERROR(F26/F20,"n.a") -> n.a | G27: =IFERROR(G26/G20,"n.a") -> n.a
A28: =CONFIG!D152 -> Ratio Entreprise en Difficulté : (Capital + Primes d'émission) / 2 + réserves + report à nouveau + résultat | B28: =B21/2+B22+B23 -> 0 | C28: =C21/2+C22+C23 -> 0 | D28: =D21/2+D22+D23 -> 0 | E28: =E21/2+E22+E23 -> 0 | F28: =F21/2+F22+F23 -> 0 | G28: =G21/2+G22+G23 -> 0
A35: Check PF vs TRESO | C35: =C17-TRESO!D71 -> 0 | D35: =D17-TRESO!E71 -> 0 | E35: =E17-TRESO!F71 -> 0 | F35: =F17-TRESO!G71 -> 0 | G35: =G17-TRESO!H71 -> 0
A36: CHECKS | C36: =sum(C35) -> 0 | D36: =sum(D35) -> 0 | E36: =sum(E35) -> 0 | F36: =sum(F35) -> 0 | G36: =sum(G35) -> 0

Sheet CONFIG
A1: CONFIGURATION ET NOTICE | C1: Version : | D1: 45658
B3: Instructions
B4: 0. Pour utiliser cette trame, cliquez sur Fichier > Créer une copie
B5: 1. Les cases à modifier sont indiquées en couleur ou police jaune dans chaque onglet. Les autres cases ne doivent pas être modifiées pour éviter de casser les formules
B6: 2. Les onglets suivants contiennent des lignes et des colonnes groupées, signalées par un bouton + ou -, à gauche ou en haut
B7: 3. Vous pouvez grouper ou développer toutes les lignes/colonnes d'un coup en faisant un clic droit sur les boutons +/-
B8: 4. Certains éléments du compte de résultat (dotations, intérêts) sont intégrés dans l'onglet TRESO car ils dépendent d'éléments comme les investissements ou les prêts
B9: 5. Lorsque vous avez fini de modéliser votre BP, vérifier que les checks ci-dessous sont tous égaux à "OK"
B11: Configuration du BP
B12: Langue des tableaux du BP | C12: Français | D12: Les libellés du compte de résultat en Français ou en Anglais peuvent être modifiés dans la section "Traduction" ci-dessous
B13: Mois de clôture de l'exercice comptable | C13: 12 | D13: 1 = Janvier, 12 = Décembre
B14: Première année du BP | C14: 2026 | D14: Il faut choisir ici la 1ère année projetée, donc pas une année clôturée. Vous pourrez ajouter des données passées dans l'onglet CR
B15: Jeune Entreprise Innovante (JEI) ? | C15: Non | D15: Ce statut influence votre taux de cotisations sociales
B16: Date fin JEI | C16: 46387 | D16: Ce statut influence votre taux de cotisations sociales
B18: Checks de formules et ratios | D18: =CR!D1 -> 2026 | E18: =CR!E1 -> 2027 | F18: =CR!F1 -> 2028 | G18: =CR!G1 -> 2029 | H18: =CR!H1 -> 2030
B19: Checks Onglet CR | D19: =IF(CR!D134<500,"OK",CR!D134) -> OK | E19: =IF(CR!E134<500,"OK",CR!E134) -> OK | F19: =IF(CR!F134<500,"OK",CR!F134) -> OK | G19: =IF(CR!G134<500,"OK",CR!G134) -> OK | H19: =IF(CR!H134<500,"OK",CR!H134) -> OK
B20: Checks Onglet TRESO | D20: =IF(TRESO!D90<500,"OK",TRESO!D90) -> OK | E20: =IF(TRESO!E90<500,"OK",TRESO!E90) -> OK | F20: =IF(TRESO!F90<500,"OK",TRESO!F90) -> OK | G20: =IF(TRESO!G90<500,"OK",TRESO!G90) -> OK | H20: =IF(TRESO!H90<500,"OK",TRESO!H90) -> OK
B21: Checks Onglet PLAN DE FIN | D21: =IF('PLAN DE FIN'!C36<500,"OK",'PLAN DE FIN'!C36) -> OK | E21: =IF('PLAN DE FIN'!D36<500,"OK",'PLAN DE FIN'!D36) -> OK | F21: =IF('PLAN DE FIN'!E36<500,"OK",'PLAN DE FIN'!E36) -> OK | G21: =IF('PLAN DE FIN'!F36<500,"OK",'PLAN DE FIN'!F36) -> OK | H21: =IF('PLAN DE FIN'!G36<500,"OK",'PLAN DE FIN'!G36) -> OK
